BEGIN:VCALENDAR
VERSION:2.0
PRODID:-//ChamberMaster//Event Calendar 2.0//EN
METHOD:PUBLISH
X-PUBLISHED-TTL:P3D
REFRESH-INTERVAL:P3D
CALSCALE:GREGORIAN
BEGIN:VEVENT
DTSTART;VALUE=DATE:20130118
DTEND;VALUE=DATE:20130120
TRANSP:TRANSPARENT
X-MICROSOFT-CDO-ALLDAYEVENT:TRUE
SUMMARY:Winterfest
DESCRIPTION:Snow Sculpture contest\; Taste of Wallowa County - Local Breweries\, Bars\, and Restaurants showcase their specialties\; Loomix Tub Races\, Chili Cook Off\, Scavenger Hunt\, Winter Games for Adults at Stubborn Mule\, Poker Run\, All U Can Eat Breakfast\, All U Can Eat Steak Feed\, Raffles\, Auctions\, and a dance with live music.  Joseph\, Oregon along Hells Canyon Scenic Byway.
X-ALT-DESC;FMTTYPE=text/html:Snow Sculpture contest\; Taste of Wallowa County - Local Breweries\, Bars\, and Restaurants showcase their specialties\; Loomix Tub Races\, Chili Cook Off\, Scavenger Hunt\, Winter Games for Adults at Stubborn Mule\, Poker Run\, All U Can Eat Breakfast\, All U Can Eat Steak Feed\, Raffles\, Auctions\, and a dance with live music.  Joseph\, Oregon along Hells Canyon Scenic Byway.
LOCATION:
UID:e.1631.51
SEQUENCE:3
DTSTAMP:20260419T220246Z
URL:https://business.wallowacountychamber.com/events/details/winterfest-01-18-2013-51
END:VEVENT

END:VCALENDAR
