BEGIN:VCALENDAR
VERSION:2.0
PRODID:-//ChamberMaster//Event Calendar 2.0//EN
METHOD:PUBLISH
X-PUBLISHED-TTL:P3D
REFRESH-INTERVAL:P3D
CALSCALE:GREGORIAN
BEGIN:VEVENT
DTSTART:20260530T010000Z
DTEND:20260530T030000Z
X-MICROSOFT-CDO-ALLDAYEVENT:FALSE
SUMMARY:Wine as Watercolor
DESCRIPTION:Wine as Watercolor with Kate Kucera!\n\nFriday\, May 29\n\n6:00 8:00 pm      $35\n\nJoin us for a fun and creative evening using wine as your medium! In this two-hour class\, students will explore the rich\, warm palette that wine provides as a painting tool\, using it to create a mountain landscape. Along the way you'll learn the importance of value in painting and discover how light and dark tones bring a composition to life   all in a relaxed\, welcoming setting.\n\nNo prior painting experience necessary. All supplies included.\n\nMinimum 4 students / Maximum 10 students.\n\nPre-registration required.\n\nRegistration closes 48 hours prior to class start time.\n\n*No refunds after registration closes\, please plan accordingly.
X-ALT-DESC;FMTTYPE=text/html:<h1 class="font-claude-response-body break-words whitespace-normal leading-[1.7]" data-cya11y-org-font-size="30" style="box-sizing: border-box\; margin: 0px\; padding: 0px 0px 10px\; border: 0px\; outline: 0px\; font-size: 30px\; text-size-adjust: 100%\; vertical-align: baseline\; background: rgb(255\, 255\, 255)\; color: rgb(51\, 51\, 51)\; line-height: 1em\; font-weight: 500\; font-family: &quot\;Helvetica Neue&quot\;\, Helvetica\, -apple-system\, BlinkMacSystemFont\, Roboto\, Arial\, sans-serif\; font-style: normal\; font-variant-ligatures: normal\; font-variant-caps: normal\; letter-spacing: normal\; orphans: 2\; text-indent: 0px\; text-transform: none\; widows: 2\; word-spacing: 0px\; -webkit-text-stroke-width: 0px\; white-space: normal\; text-decoration-thickness: initial\; text-decoration-style: initial\; text-decoration-color: initial\; text-align: center\;"><strong style="box-sizing: border-box\; margin: 0px\; padding: 0px\; border: 0px\; outline: 0px\; font-size: 30px\; text-size-adjust: 100%\; vertical-align: baseline\; background: transparent\; font-weight: 700\;">Wine as Watercolor with Kate Kucera!</strong></h1>\n\n<h3 class="font-claude-response-body break-words whitespace-normal leading-[1.7]" data-cya11y-org-font-size="22" style="box-sizing: border-box\; margin: 0px 0px 0.75em\; padding: 0px 0px 10px\; border: 0px\; outline: 0px\; font-size: 22px\; text-size-adjust: 100%\; vertical-align: baseline\; background: rgb(255\, 255\, 255)\; color: rgb(20\, 24\, 39)\; line-height: 1em\; font-weight: 700\; font-family: &quot\;Helvetica Neue&quot\;\, Helvetica\, -apple-system\, BlinkMacSystemFont\, Roboto\, Arial\, sans-serif\; letter-spacing: normal\; text-transform: none\; font-style: normal\; font-variant-ligatures: normal\; font-variant-caps: normal\; orphans: 2\; text-indent: 0px\; widows: 2\; word-spacing: 0px\; -webkit-text-stroke-width: 0px\; white-space: normal\; text-decoration-thickness: initial\; text-decoration-style: initial\; text-decoration-color: initial\; text-align: center\;">Friday\, May 29</h3>\n\n<h3 class="font-claude-response-body break-words whitespace-normal leading-[1.7]" data-cya11y-org-font-size="22" style="box-sizing: border-box\; margin: 0px 0px 0.75em\; padding: 0px 0px 10px\; border: 0px\; outline: 0px\; font-size: 22px\; text-size-adjust: 100%\; vertical-align: baseline\; background: rgb(255\, 255\, 255)\; color: rgb(20\, 24\, 39)\; line-height: 1em\; font-weight: 700\; font-family: &quot\;Helvetica Neue&quot\;\, Helvetica\, -apple-system\, BlinkMacSystemFont\, Roboto\, Arial\, sans-serif\; letter-spacing: normal\; text-transform: none\; font-style: normal\; font-variant-ligatures: normal\; font-variant-caps: normal\; orphans: 2\; text-indent: 0px\; widows: 2\; word-spacing: 0px\; -webkit-text-stroke-width: 0px\; white-space: normal\; text-decoration-thickness: initial\; text-decoration-style: initial\; text-decoration-color: initial\; text-align: center\;">6:00&ndash\;8:00 pm &nbsp\; &nbsp\; &nbsp\;$35</h3>\n\n<p class="font-claude-response-body break-words whitespace-normal leading-[1.7]" data-cya11y-org-font-size="18" style="box-sizing: border-box\; margin: 0px 0px 16px\; padding: 0px 0px 1em\; border: 0px\; outline: 0px\; font-size: 18px\; text-size-adjust: 100%\; vertical-align: baseline\; background: rgb(255\, 255\, 255)\; line-height: 1.5\; color: rgb(20\, 24\, 39)\; font-family: &quot\;Helvetica Neue&quot\;\, Helvetica\, -apple-system\, BlinkMacSystemFont\, Roboto\, Arial\, sans-serif\; font-style: normal\; font-variant-ligatures: normal\; font-variant-caps: normal\; font-weight: 500\; letter-spacing: normal\; orphans: 2\; text-align: start\; text-indent: 0px\; text-transform: none\; widows: 2\; word-spacing: 0px\; -webkit-text-stroke-width: 0px\; white-space: normal\; text-decoration-thickness: initial\; text-decoration-style: initial\; text-decoration-color: initial\;">Join us for a fun and creative evening using wine as your medium! In this two-hour class\, students will explore the rich\, warm palette that wine provides as a painting tool\, using it to create a mountain landscape. Along the way you&rsquo\;ll learn the importance of value in painting and discover how light and dark tones bring a composition to life &mdash\; all in a relaxed\, welcoming setting.</p>\n\n<p class="font-claude-response-body break-words whitespace-normal leading-[1.7]" data-cya11y-org-font-size="18" style="box-sizing: border-box\; margin: 0px 0px 16px\; padding: 0px 0px 1em\; border: 0px\; outline: 0px\; font-size: 18px\; text-size-adjust: 100%\; vertical-align: baseline\; background: rgb(255\, 255\, 255)\; line-height: 1.5\; color: rgb(20\, 24\, 39)\; font-family: &quot\;Helvetica Neue&quot\;\, Helvetica\, -apple-system\, BlinkMacSystemFont\, Roboto\, Arial\, sans-serif\; font-style: normal\; font-variant-ligatures: normal\; font-variant-caps: normal\; font-weight: 500\; letter-spacing: normal\; orphans: 2\; text-align: start\; text-indent: 0px\; text-transform: none\; widows: 2\; word-spacing: 0px\; -webkit-text-stroke-width: 0px\; white-space: normal\; text-decoration-thickness: initial\; text-decoration-style: initial\; text-decoration-color: initial\;">No prior painting experience necessary. All supplies included.</p>\n\n<p class="font-claude-response-body break-words whitespace-normal leading-[1.7]" data-cya11y-org-font-size="18" style="box-sizing: border-box\; margin: 0px 0px 16px\; padding: 0px 0px 1em\; border: 0px\; outline: 0px\; font-size: 18px\; text-size-adjust: 100%\; vertical-align: baseline\; background: rgb(255\, 255\, 255)\; line-height: 1.5\; color: rgb(20\, 24\, 39)\; font-family: &quot\;Helvetica Neue&quot\;\, Helvetica\, -apple-system\, BlinkMacSystemFont\, Roboto\, Arial\, sans-serif\; font-style: normal\; font-variant-ligatures: normal\; font-variant-caps: normal\; font-weight: 500\; letter-spacing: normal\; orphans: 2\; text-align: start\; text-indent: 0px\; text-transform: none\; widows: 2\; word-spacing: 0px\; -webkit-text-stroke-width: 0px\; white-space: normal\; text-decoration-thickness: initial\; text-decoration-style: initial\; text-decoration-color: initial\;">Minimum 4 students / Maximum 10 students.</p>\n\n<p class="font-claude-response-body break-words whitespace-normal leading-[1.7]" data-cya11y-org-font-size="18" style="box-sizing: border-box\; margin: 0px 0px 16px\; padding: 0px 0px 1em\; border: 0px\; outline: 0px\; font-size: 18px\; text-size-adjust: 100%\; vertical-align: baseline\; background: rgb(255\, 255\, 255)\; line-height: 1.5\; color: rgb(20\, 24\, 39)\; font-family: &quot\;Helvetica Neue&quot\;\, Helvetica\, -apple-system\, BlinkMacSystemFont\, Roboto\, Arial\, sans-serif\; font-style: normal\; font-variant-ligatures: normal\; font-variant-caps: normal\; font-weight: 500\; letter-spacing: normal\; orphans: 2\; text-align: start\; text-indent: 0px\; text-transform: none\; widows: 2\; word-spacing: 0px\; -webkit-text-stroke-width: 0px\; white-space: normal\; text-decoration-thickness: initial\; text-decoration-style: initial\; text-decoration-color: initial\;">Pre-registration required.</p>\n\n<h4 class="font-claude-response-body break-words whitespace-normal leading-[1.7]" data-cya11y-org-font-size="18" style="box-sizing: border-box\; margin: 0px 0px 0.75em\; padding: 0px 0px 10px\; border: 0px\; outline: 0px\; font-size: 18px\; text-size-adjust: 100%\; vertical-align: baseline\; background: rgb(255\, 255\, 255)\; color: rgb(20\, 24\, 39)\; line-height: 1em\; font-weight: 700\; font-family: &quot\;Helvetica Neue&quot\;\, Helvetica\, -apple-system\, BlinkMacSystemFont\, Roboto\, Arial\, sans-serif\; letter-spacing: normal\; text-transform: none\; font-style: normal\; font-variant-ligatures: normal\; font-variant-caps: normal\; orphans: 2\; text-indent: 0px\; widows: 2\; word-spacing: 0px\; -webkit-text-stroke-width: 0px\; white-space: normal\; text-decoration-thickness: initial\; text-decoration-style: initial\; text-decoration-color: initial\; text-align: center\;">Registration closes 48 hours prior to class start time.</h4>\n\n<p class="font-claude-response-body break-words whitespace-normal leading-[1.7]" data-cya11y-org-font-size="18" style="box-sizing: border-box\; margin: 0px 0px 16px\; padding: 0px 0px 1em\; border: 0px\; outline: 0px\; font-size: 18px\; text-size-adjust: 100%\; vertical-align: baseline\; background: rgb(255\, 255\, 255)\; line-height: 1.5\; color: rgb(20\, 24\, 39)\; font-family: &quot\;Helvetica Neue&quot\;\, Helvetica\, -apple-system\, BlinkMacSystemFont\, Roboto\, Arial\, sans-serif\; font-style: normal\; font-variant-ligatures: normal\; font-variant-caps: normal\; font-weight: 500\; letter-spacing: normal\; orphans: 2\; text-indent: 0px\; text-transform: none\; widows: 2\; word-spacing: 0px\; -webkit-text-stroke-width: 0px\; white-space: normal\; text-decoration-thickness: initial\; text-decoration-style: initial\; text-decoration-color: initial\; text-align: center\;"><em style="box-sizing: border-box\; margin: 0px\; padding: 0px\; border: 0px\; outline: 0px\; font-size: 18px\; text-size-adjust: 100%\; vertical-align: baseline\; background: transparent\; font-style: italic\;">*No refunds after registration closes\, please plan accordingly.&nbsp\;</em></p>\n
LOCATION:Josephy Center\, Joseph
UID:e.1631.29411
SEQUENCE:3
DTSTAMP:20260424T185728Z
URL:https://business.wallowacountychamber.com/events/details/wine-as-watercolor-29411
END:VEVENT

END:VCALENDAR
