BEGIN:VCALENDAR
VERSION:2.0
PRODID:-//ChamberMaster//Event Calendar 2.0//EN
METHOD:PUBLISH
X-PUBLISHED-TTL:P3D
REFRESH-INTERVAL:P3D
CALSCALE:GREGORIAN
BEGIN:VEVENT
DTSTART;VALUE=DATE:20130628
DTEND;VALUE=DATE:20130629
TRANSP:TRANSPARENT
X-MICROSOFT-CDO-ALLDAYEVENT:TRUE
SUMMARY:Watershed Festival
DESCRIPTION:Wallowa Resources\, with Wallowa Valley Music Alliance transform the Wallowa County Fairgrounds in Enterprise into an outdoor festival and concert every year. We invite you to come celebrate this amazing place. Over 35 booths have hands-on activities to explore and learn about the people\, animals\, plants\, rocks\, and our way of life. This family-friendly event provides opportunities for individuals of all ages to listen\, celebrate\, and learn about Wallowa County. We hope to see you there!\n\n	Festival Activities include:\n\n	\n		Birdhouse building\n	\n		Rainbow Trout fishing\n	\n		Fish printing\n	\n		Tree Identification\n	\n		Live Golden Eagle\, Red-tailed Hawk\, and Great Horned Owl up close\n	\n		 Live local music provided by the Wallowa Valley Music Alliance
X-ALT-DESC;FMTTYPE=text/html:<p>\n	<span style="font-size: 11pt\;"><strong>Wallowa Resources</strong>\, with <strong>Wallowa Valley Music Alliance </strong>transform the Wallowa County Fairgrounds in Enterprise into an outdoor festival and concert every year. We invite you to come celebrate this amazing place. Over 35 booths have hands-on activities to explore and learn about the people\, animals\, plants\, rocks\, and our way of life. This family-friendly event provides opportunities for individuals of all ages to listen\, celebrate\, and learn about Wallowa County. We hope to see you there!</span></p>\n<p>\n	<span style="font-size: 11pt\;">Festival Activities include:</span></p>\n<ul class="bullet-star">\n	<li>\n		<em><span style="font-size: 11pt\;">Birdhouse building</span></em></li>\n	<li>\n		<em><span style="font-size: 11pt\;">Rainbow Trout fishing</span></em></li>\n	<li>\n		<em><span style="font-size: 11pt\;">Fish printing</span></em></li>\n	<li>\n		<em><span style="font-size: 11pt\;">Tree Identification</span></em></li>\n	<li>\n		<em><span style="font-size: 11pt\;">Live Golden Eagle\, Red-tailed Hawk\, and Great Horned Owl up close</span></em></li>\n	<li>\n		<em><span style="font-size: 11pt\;"><span _fck_bookmark="1" style="display: none\;">&nbsp\;</span>Live local music provided by the <strong>Wallowa Valley Music Alliance</strong></span></em></li>\n</ul>\n
LOCATION:
UID:e.1631.59
SEQUENCE:3
DTSTAMP:20260419T152640Z
URL:https://business.wallowacountychamber.com/events/details/watershed-festival-06-28-2013-59
END:VEVENT

END:VCALENDAR
