BEGIN:VCALENDAR
VERSION:2.0
PRODID:-//ChamberMaster//Event Calendar 2.0//EN
METHOD:PUBLISH
X-PUBLISHED-TTL:P3D
REFRESH-INTERVAL:P3D
CALSCALE:GREGORIAN
BEGIN:VEVENT
DTSTART:20130303T020000Z
DTEND:20130303T040000Z
X-MICROSOFT-CDO-ALLDAYEVENT:FALSE
SUMMARY:Wallowa Valley Orchestra
DESCRIPTION:The Wallowa Valley Orchestra will play at the Wallowa School
X-ALT-DESC;FMTTYPE=text/html:The Wallowa Valley Orchestra will play at the Wallowa School
LOCATION:Wallowa School\, Wallowa
UID:e.1631.2374
SEQUENCE:3
DTSTAMP:20260419T203101Z
URL:https://business.wallowacountychamber.com/events/details/wallowa-valley-orchestra-03-02-2013-2374
END:VEVENT

END:VCALENDAR
