BEGIN:VCALENDAR
VERSION:2.0
PRODID:-//ChamberMaster//Event Calendar 2.0//EN
METHOD:PUBLISH
X-PUBLISHED-TTL:P3D
REFRESH-INTERVAL:P3D
CALSCALE:GREGORIAN
BEGIN:VEVENT
DTSTART:20130414T220000Z
DTEND:20130415T000000Z
X-MICROSOFT-CDO-ALLDAYEVENT:FALSE
SUMMARY:Wallowa Valley Chorale Concert
DESCRIPTION:The Wallowa Valley Chorale will perform selections from the Oratorio 'Elijah' by Felix Mendelssohn.  The 30-voice chorale will be conducted by Randy Morgan and Claudia Boswell and accompanied by Gail Swart and Dean Mason.  Donations gratefully accepted.
X-ALT-DESC;FMTTYPE=text/html:<span style="font-size: medium\;"><span style="font-family: times new roman\;"><strong>The Wallowa Valley Chorale will perform selections from the Oratorio &#39\;Elijah&#39\; by Felix Mendelssohn.&nbsp\; </strong></span></span><span style="font-size: medium\;"><span style="font-family: times new roman\;"><strong>The 30-voice chorale will be </strong></span></span><span style="font-size: medium\;"><span style="font-family: times new roman\;"><strong>conducted by Randy Morgan and Claudia Boswell and accompanied by Gail Swart and Dean Mason.&nbsp\; </strong></span></span><span style="font-size: medium\;"><span style="font-family: times new roman\;"><strong><span style="font-size: 12pt\;"><span style="font-family: times new roman\,serif\;">Donations gratefully accepted.&nbsp\;&nbsp\;</span></span></strong></span></span>
LOCATION:Enterprise School Gymnasium
UID:e.1631.2741
SEQUENCE:3
DTSTAMP:20260419T172146Z
URL:https://business.wallowacountychamber.com/events/details/wallowa-valley-chorale-concert-04-14-2013-2741
END:VEVENT

END:VCALENDAR
