BEGIN:VCALENDAR
VERSION:2.0
PRODID:-//ChamberMaster//Event Calendar 2.0//EN
METHOD:PUBLISH
X-PUBLISHED-TTL:P3D
REFRESH-INTERVAL:P3D
CALSCALE:GREGORIAN
BEGIN:VEVENT
DTSTART;VALUE=DATE:20130608
DTEND;VALUE=DATE:20130610
TRANSP:TRANSPARENT
X-MICROSOFT-CDO-ALLDAYEVENT:TRUE
SUMMARY:Wallowa Mountain Quilt Show - 21st Annual
DESCRIPTION:The 21st Annual Wallowa Mountain Quilters Guild show will feature over 150 quilts. The show is judged by popular vote and quilt entries from all locations and of all types are encouraged.  Check back for 2013 specifics
X-ALT-DESC;FMTTYPE=text/html:The 21st Annual Wallowa Mountain Quilters Guild show will feature over 150 quilts. The show is judged by popular vote and quilt entries from all locations and of all types are encouraged.&nbsp\; Check back for 2013 specifics&nbsp\;
LOCATION:Joseph High School\, 400 Wm. E. Williams Ave.\, Joseph
UID:e.1631.56
SEQUENCE:3
DTSTAMP:20260419T153541Z
URL:https://business.wallowacountychamber.com/events/details/wallowa-mountain-quilt-show-21st-annual-06-08-2013-56
END:VEVENT

END:VCALENDAR
