BEGIN:VCALENDAR
VERSION:2.0
PRODID:-//ChamberMaster//Event Calendar 2.0//EN
METHOD:PUBLISH
X-PUBLISHED-TTL:P3D
REFRESH-INTERVAL:P3D
CALSCALE:GREGORIAN
BEGIN:VEVENT
DTSTART:20130518T170000Z
DTEND:20130518T234500Z
X-MICROSOFT-CDO-ALLDAYEVENT:FALSE
SUMMARY:Wallowa Lake Tramway Opens 2013 Season This Weekend
DESCRIPTION:Wallowa Lake Tramway opens its 2013 summer season this coming weekend\, May 18 & 19. The tram will be open the following weekend for the Memorial Day weekend holiday\, and then daily from June 1 until September 30. This season the tramway has a new all-day ticket opportunity to all guests\, allowing unlimited rides on the day the ticket is purchased. Also the tramway will be offering free interpretive tours daily\, and extended hours with breakfast service and a social hour menu\, with entertainment 3 to 5 daily from June 15.
X-ALT-DESC;FMTTYPE=text/html:<h2>\n	<span style="font-family:calibri\,sans-serif\;"><span style="font-size:20.0pt\;">Wallowa Lake Tramway opens its 2013 summer season this coming weekend\, May 18 &amp\; 19. The tram will be open the following weekend for the Memorial Day weekend holiday\, and then daily from June 1 until September 30. This season the tramway has a new all-day ticket opportunity to all guests\, allowing unlimited rides on the day the ticket is purchased. Also the tramway will be offering free interpretive tours daily\, and extended hours with breakfast service and a social hour menu\, with entertainment 3 to 5 daily from June 15.</span></span></h2>\n
LOCATION:Wallowa Lake Tramway\, 59919 Wallowa Lake Highway
UID:e.1631.4193
SEQUENCE:3
DTSTAMP:20260419T153042Z
URL:https://business.wallowacountychamber.com/events/details/wallowa-lake-tramway-opens-2013-season-this-weekend-05-18-2013-4193
END:VEVENT

END:VCALENDAR
