BEGIN:VCALENDAR
VERSION:2.0
PRODID:-//ChamberMaster//Event Calendar 2.0//EN
METHOD:PUBLISH
X-PUBLISHED-TTL:P3D
REFRESH-INTERVAL:P3D
CALSCALE:GREGORIAN
BEGIN:VEVENT
DTSTART:20130718T030000Z
DTEND:20130718T040000Z
X-MICROSOFT-CDO-ALLDAYEVENT:FALSE
SUMMARY:Wallowa Lake State Park Programs
DESCRIPTION:The evening program is on the 1847 Whitman Massacre\; movie: Planet Earth Part 1
X-ALT-DESC;FMTTYPE=text/html:The evening program is on the 1847 Whitman Massacre\; movie: Planet Earth Part 1
LOCATION:Program Area at Wallowa Lake State Park
UID:e.1631.4363
SEQUENCE:3
DTSTAMP:20260419T120525Z
URL:https://business.wallowacountychamber.com/events/details/wallowa-lake-state-park-programs-07-17-2013-4363
END:VEVENT

END:VCALENDAR
