BEGIN:VCALENDAR
VERSION:2.0
PRODID:-//ChamberMaster//Event Calendar 2.0//EN
METHOD:PUBLISH
X-PUBLISHED-TTL:P3D
REFRESH-INTERVAL:P3D
CALSCALE:GREGORIAN
BEGIN:VEVENT
DTSTART:20130206T030000Z
DTEND:20130206T050000Z
X-MICROSOFT-CDO-ALLDAYEVENT:FALSE
SUMMARY:Wallowa County Reads 2013: The Legacy of Norman Maclean
DESCRIPTION:John Maclean will give an intimate evening presentation on his father and the legacy of a A River Runs Through It .  Limited seats available by lottery at the kick-off.
X-ALT-DESC;FMTTYPE=text/html:John Maclean will give an intimate evening presentation on his father and the legacy of a <em>A River Runs Through It .&nbsp\; Limited seats available by lottery at the kick-off.</em>
LOCATION:Fishtrap House\, 400 Grant St.\, Enterprise
UID:e.1631.186
SEQUENCE:3
DTSTAMP:20260419T204015Z
URL:https://business.wallowacountychamber.com/events/details/wallowa-county-reads-2013-the-legacy-of-norman-maclean-02-05-2013-186
END:VEVENT

END:VCALENDAR
