BEGIN:VCALENDAR
VERSION:2.0
PRODID:-//ChamberMaster//Event Calendar 2.0//EN
METHOD:PUBLISH
X-PUBLISHED-TTL:P3D
REFRESH-INTERVAL:P3D
CALSCALE:GREGORIAN
BEGIN:VEVENT
DTSTART:20130208T030000Z
DTEND:20130208T050000Z
X-MICROSOFT-CDO-ALLDAYEVENT:FALSE
SUMMARY:Wallowa County Reads 2013: From the Book to the Screen (Film Screening)
DESCRIPTION:From the Book to the Screen (Film Screening): Mike Allen\, a retired professor of sociology and film\, will give a short presentation on  A River Runs Through It and how the book was turned into a film. We will show A River Runs Through It following the presentation.
X-ALT-DESC;FMTTYPE=text/html:<span style="font-size: 14px"><strong>From the Book to the Screen (Film Screening):</strong> Mike Allen\, a retired professor of sociology and film\, will give a short presentation on&nbsp\; <em>A River Runs Through It </em>and how the book was turned into a film. We will show <em>A River Runs Through It</em> following the presentation.&nbsp\;&nbsp\;</span><span _fck_bookmark="1" style="display: none">&nbsp\;</span>
LOCATION:Josephy Center for Arts and Culture\, Main St.\, Joseph
UID:e.1631.187
SEQUENCE:3
DTSTAMP:20260419T222716Z
URL:https://business.wallowacountychamber.com/events/details/wallowa-county-reads-2013-from-the-book-to-the-screen-film-screening-02-07-2013-187
END:VEVENT

END:VCALENDAR
