BEGIN:VCALENDAR
VERSION:2.0
PRODID:-//ChamberMaster//Event Calendar 2.0//EN
METHOD:PUBLISH
X-PUBLISHED-TTL:P3D
REFRESH-INTERVAL:P3D
CALSCALE:GREGORIAN
BEGIN:VEVENT
DTSTART:20130205T030000Z
DTEND:20130205T050000Z
X-MICROSOFT-CDO-ALLDAYEVENT:FALSE
SUMMARY:Wallowa County Reads 2013: Fire
DESCRIPTION:Norman Maclean's son\, has continued in the vein of nonfiction writing that Norman began with "Young Men and Fire".  Join us for a reading and book release celebration of  "Esperanza fire"\, John Maclean's latest nonfiction account of wildfires and tragic deaths.
X-ALT-DESC;FMTTYPE=text/html:<span style="font-size: 14px">Norman Maclean&#39\;s son\, has continued in the vein of nonfiction writing that Norman began with &quot\;Young Men and Fire&quot\;.&nbsp\; Join us for a reading and book release celebration of &nbsp\;&quot\;Esperanza fire&quot\;\, John Maclean&#39\;s latest nonfiction account of wildfires and tragic deaths</span>.
LOCATION:Fishtrap House\, 400 Grant St.\, Enterprise
UID:e.1631.184
SEQUENCE:3
DTSTAMP:20260419T202853Z
URL:https://business.wallowacountychamber.com/events/details/wallowa-county-reads-2013-fire-02-04-2013-184
END:VEVENT

END:VCALENDAR
