BEGIN:VCALENDAR
VERSION:2.0
PRODID:-//ChamberMaster//Event Calendar 2.0//EN
METHOD:PUBLISH
X-PUBLISHED-TTL:P3D
REFRESH-INTERVAL:P3D
CALSCALE:GREGORIAN
BEGIN:VEVENT
DTSTART:20130208T160000Z
DTEND:20130209T000000Z
X-MICROSOFT-CDO-ALLDAYEVENT:FALSE
SUMMARY:Wallowa County Reads 2013: Community Fishing day on the Imnaha River
DESCRIPTION:We've re-scheduled the Community Fishing Day on the Imnaha. The plan is to meet at 8am at the Imnaha Store and Tavern and carpool down to the lower river.  This is a great opportunity to meet other fisherfolk in the valley and to talk about the book.  We'll be convening at the Imnaha Store and Tavern for a late lunch and discussion after fishing  (around 2pm)  Please email ben@fishtrap.org with any questions.
X-ALT-DESC;FMTTYPE=text/html:We&#39\;ve re-scheduled the Community Fishing Day on the Imnaha. The plan is to meet at 8am at the Imnaha Store and Tavern and carpool down to the lower river.&nbsp\; This is a great opportunity to meet other fisherfolk in the valley and to talk about the book.&nbsp\; We&#39\;ll be convening at the Imnaha Store and Tavern for a late lunch and discussion after fishing &nbsp\;(around 2pm)&nbsp\; Please email ben@fishtrap.org with any questions.
LOCATION:102 hat Point Rd ( Imnaha Store & Tavern)\, Imnaha
UID:e.1631.336
SEQUENCE:3
DTSTAMP:20260419T222229Z
URL:https://business.wallowacountychamber.com/events/details/wallowa-county-reads-2013-community-fishing-day-on-the-imnaha-river-02-08-2013-336
END:VEVENT

END:VCALENDAR
