BEGIN:VCALENDAR
VERSION:2.0
PRODID:-//ChamberMaster//Event Calendar 2.0//EN
METHOD:PUBLISH
X-PUBLISHED-TTL:P3D
REFRESH-INTERVAL:P3D
CALSCALE:GREGORIAN
BEGIN:VEVENT
DTSTART:20130506T000000Z
DTEND:20130506T020000Z
X-MICROSOFT-CDO-ALLDAYEVENT:FALSE
SUMMARY:Vegetarian Indian Dinner & Benefit
DESCRIPTION:Vegetarian Indian Dinner to benefit Wallowa Buddhist Temple at Russell's At The Lake restaurant.  The meal will be prepared by Erin Donovan and Friends of the Wallowa Buddhist Temple.
X-ALT-DESC;FMTTYPE=text/html:Vegetarian Indian Dinner to benefit Wallowa Buddhist Temple at <em>Russell&#39\;s At The Lake</em> restaurant.&nbsp\; The meal will be prepared by Erin Donovan and Friends of the Wallowa Buddhist Temple.
LOCATION:59984 Wallowa Lake Hwy
UID:e.1631.1835
SEQUENCE:3
DTSTAMP:20260419T170902Z
URL:https://business.wallowacountychamber.com/events/details/vegetarian-indian-dinner-benefit-05-05-2013-1835
END:VEVENT

END:VCALENDAR
