BEGIN:VCALENDAR
VERSION:2.0
PRODID:-//ChamberMaster//Event Calendar 2.0//EN
METHOD:PUBLISH
X-PUBLISHED-TTL:P3D
REFRESH-INTERVAL:P3D
CALSCALE:GREGORIAN
BEGIN:VEVENT
DTSTART:20130404T210000Z
DTEND:20130404T230000Z
X-MICROSOFT-CDO-ALLDAYEVENT:FALSE
SUMMARY:US Senator Ron Wyden
DESCRIPTION:US Senator Ron Wyden is here for a Town Hall Meeting at the Joseph Charter School.  If  you have any questions\, please call Senator Wyden's La Grande Office: (541) 962-7691
X-ALT-DESC;FMTTYPE=text/html:<span style="font-size: 16px\;"><em><strong>US Senator Ron Wyden </strong></em>is here for a Town Hall Meeting at the Joseph Charter School.&nbsp\; If&nbsp\; you have any questions\, please call Senator Wyden&#39\;s La Grande Office: (541) 962-7691</span>
LOCATION:Joseph Charter School\, 400 E. Wm. E. Williams Ave\, Joseph
UID:e.1631.3222
SEQUENCE:3
DTSTAMP:20260419T170613Z
URL:https://business.wallowacountychamber.com/events/details/us-senator-ron-wyden-04-04-2013-3222
END:VEVENT

END:VCALENDAR
