BEGIN:VCALENDAR
VERSION:2.0
PRODID:-//ChamberMaster//Event Calendar 2.0//EN
METHOD:PUBLISH
X-PUBLISHED-TTL:P3D
REFRESH-INTERVAL:P3D
CALSCALE:GREGORIAN
BEGIN:VEVENT
DTSTART:20130706T160000Z
DTEND:20130706T190000Z
X-MICROSOFT-CDO-ALLDAYEVENT:FALSE
SUMMARY:Upland Prairie Adventures
DESCRIPTION:Join WLT staff and landowners Sharon & Paul Spriggs-Flanders for a tour of their property\, Grace Prairie\, in the Leap area north of Enterprise. Discuss rangeland management and stewarding land and livestock while taking a walk on the prairie with incredible views.   ( Moderate hike)
X-ALT-DESC;FMTTYPE=text/html:<span style="font-family:times new roman\,serif\;"><span style="font-size:12.0pt\;">Join WLT staff and landowners Sharon &amp\; Paul Spriggs-Flanders for a tour of their property\, Grace Prairie\, in the Leap area north of Enterprise. Discuss rangeland management and stewarding land and livestock while taking a walk on the prairie with incredible views.&nbsp\;&nbsp\; ( Moderate hike)</span></span>
LOCATION:Where: Meet at Wallowa Land Trust's Office (116 South River Street)\, across from the County Courthouse\, to carpool to outing locations
UID:e.1631.4343
SEQUENCE:3
DTSTAMP:20260419T120854Z
URL:https://business.wallowacountychamber.com/events/details/upland-prairie-adventures-07-06-2013-4343
END:VEVENT

END:VCALENDAR
