BEGIN:VCALENDAR
VERSION:2.0
PRODID:-//ChamberMaster//Event Calendar 2.0//EN
METHOD:PUBLISH
X-PUBLISHED-TTL:P3D
REFRESH-INTERVAL:P3D
CALSCALE:GREGORIAN
BEGIN:VEVENT
DTSTART:20130310T030000Z
DTEND:20130310T060000Z
X-MICROSOFT-CDO-ALLDAYEVENT:FALSE
SUMMARY:Tunesmith Night
DESCRIPTION:The Wallowa Valley Music Alliance continues its monthly songwriter showcase\, Tunesmith Night\, on Saturday\, March 9\, 2013 at 7:00 pm at Lear's Main Street Grill in Enterprise. This month features songwriters Natalie Zeigler\, Cooper Trail and Star Nation.
X-ALT-DESC;FMTTYPE=text/html:<div style="color: gray\;">\n	The Wallowa Valley Music Alliance continues its monthly songwriter showcase\,<strong>&nbsp\;Tunesmith Night\,</strong>&nbsp\;on&nbsp\;<strong>Saturday\, March 9\, 2013 at 7:00 pm</strong>&nbsp\;at&nbsp\;<strong>Lear&rsquo\;s Main Street Grill</strong>&nbsp\;in Enterprise. This month features&nbsp\;songwriters <strong>Natalie Zeigler\, Cooper Trail</strong> and<strong> Star Nation</strong>.<span _fck_bookmark="1" style="display: none\;">&nbsp\;</span></div>\n
LOCATION:Lear's Main St. Grill\, 111 W. Main\, Enterprise
UID:e.1631.2174
SEQUENCE:3
DTSTAMP:20260419T185104Z
URL:https://business.wallowacountychamber.com/events/details/tunesmith-night-03-09-2013-2174
END:VEVENT

END:VCALENDAR
