BEGIN:VCALENDAR
VERSION:2.0
PRODID:-//ChamberMaster//Event Calendar 2.0//EN
METHOD:PUBLISH
X-PUBLISHED-TTL:P3D
REFRESH-INTERVAL:P3D
CALSCALE:GREGORIAN
BEGIN:VEVENT
DTSTART:20130301T030000Z
DTEND:20130301T050000Z
X-MICROSOFT-CDO-ALLDAYEVENT:FALSE
SUMMARY:"Tread Softly\, Kent State" Reading by Rocky Wilson
DESCRIPTION:Local author Rocky Wilson will read from his recently published book "Tread Softly\, Kent State" on Thurs.\, Feb. 21 at 7 p.m.\, followed by discussion.
X-ALT-DESC;FMTTYPE=text/html:<div style="color: gray\;">\n	<span style="font-size: 11pt\;"><span style="color: black\;"><span style="font-family: times new roman\, serif\;">Local author Rocky Wilson will read from his recently published book &ldquo\;Tread Softly\, Kent State&rdquo\; on Thurs.\, Feb. 21 at 7 p.m.\, followed by discussion.&nbsp\;&nbsp\;</span></span></span></div>\n
LOCATION:Josephy Center for Arts & Culture\, 403 N. Main\, Joseph
UID:e.1631.552
SEQUENCE:3
DTSTAMP:20260419T220811Z
URL:https://business.wallowacountychamber.com/events/details/tread-softly-kent-state-reading-by-rocky-wilson-02-28-2013-552
END:VEVENT

END:VCALENDAR
