BEGIN:VCALENDAR
VERSION:2.0
PRODID:-//ChamberMaster//Event Calendar 2.0//EN
METHOD:PUBLISH
X-PUBLISHED-TTL:P3D
REFRESH-INTERVAL:P3D
CALSCALE:GREGORIAN
BEGIN:VEVENT
DTSTART:20130426T020000Z
DTEND:20130426T040000Z
X-MICROSOFT-CDO-ALLDAYEVENT:FALSE
SUMMARY:Travelogue to Russia by Jean Falbo
DESCRIPTION:Jean Falbo will present an engaging travelogue featuring her photos from her trip to Russ.  "Land the Czars" will feature the culture of that country.  Falbo's program is co-sponsored by the Wallowa Valley Rotary and Josephy Center
X-ALT-DESC;FMTTYPE=text/html:Jean Falbo will present an engaging travelogue featuring her photos from her trip to Russ.&nbsp\; &quot\;Land the Czars&quot\; will feature the culture of that country.&nbsp\; Falbo&#39\;s program is co-sponsored by the Wallowa Valley Rotary and Josephy Center
LOCATION:Josephy Center for Arts& Culture 405 N. Main St.\, Joseph
UID:e.1631.3712
SEQUENCE:3
DTSTAMP:20260419T185952Z
URL:https://business.wallowacountychamber.com/events/details/travelogue-to-russia-by-jean-falbo-04-25-2013-3712
END:VEVENT

END:VCALENDAR
