BEGIN:VCALENDAR
VERSION:2.0
PRODID:-//ChamberMaster//Event Calendar 2.0//EN
METHOD:PUBLISH
X-PUBLISHED-TTL:P3D
REFRESH-INTERVAL:P3D
CALSCALE:GREGORIAN
BEGIN:VEVENT
DTSTART:20130705T020000Z
DTEND:20130705T043000Z
X-MICROSOFT-CDO-ALLDAYEVENT:FALSE
SUMMARY:Tony Furtado Live Concert
DESCRIPTION:Tony Furtado will play a Live Concert at Edelweiss Inn\, south end of Wallowa Lake.
X-ALT-DESC;FMTTYPE=text/html:Tony Furtado will play a&nbsp\;Live Concert at Edelweiss Inn\, south end of Wallowa Lake. 
LOCATION:Edelweiss Inn\, south end of Wallowa Lake
UID:e.1631.1155
SEQUENCE:3
DTSTAMP:20260419T135320Z
URL:https://business.wallowacountychamber.com/events/details/tony-furtado-live-concert-07-04-2013-1155
END:VEVENT

END:VCALENDAR
