BEGIN:VCALENDAR
VERSION:2.0
PRODID:-//ChamberMaster//Event Calendar 2.0//EN
METHOD:PUBLISH
X-PUBLISHED-TTL:P3D
REFRESH-INTERVAL:P3D
CALSCALE:GREGORIAN
BEGIN:VEVENT
DTSTART:20130413T220000Z
DTEND:20130414T020000Z
X-MICROSOFT-CDO-ALLDAYEVENT:FALSE
SUMMARY:"The Secret Garden" by Missoula Children's Theatre
DESCRIPTION:The Missoula Children's Theater will have 2 performances of  "The Secret Garden" starring local children at the Joseph Charter School. This year's play marks the 30th annual consecutive performance in Wallowa County.
X-ALT-DESC;FMTTYPE=text/html:<span style="font-family: comic sans ms\;"><span style="font-size: 16px\;">The Missoula Children&#39\;s Theater will have 2 performances of&nbsp\; <strong><em>&quot\;The Secret Garden&quot\; </em></strong>starring local children at the Joseph Charter School. This year&#39\;s play marks the 30th annual&nbsp\;consecutive performance in Wallowa County.</span></span>
LOCATION:Joseph Charter School Cafeteria\, Joseph
UID:e.1631.3702
SEQUENCE:3
DTSTAMP:20260419T181551Z
URL:https://business.wallowacountychamber.com/events/details/the-secret-garden-by-missoula-children-s-theatre-04-13-2013-3702
END:VEVENT

END:VCALENDAR
