BEGIN:VCALENDAR
VERSION:2.0
PRODID:-//ChamberMaster//Event Calendar 2.0//EN
METHOD:PUBLISH
X-PUBLISHED-TTL:P3D
REFRESH-INTERVAL:P3D
CALSCALE:GREGORIAN
BEGIN:VEVENT
DTSTART:20130511T180000Z
DTEND:20130511T210000Z
X-MICROSOFT-CDO-ALLDAYEVENT:FALSE
SUMMARY:The Return of the Chocolate Lover's Walk
DESCRIPTION:Come and enjoy the "The Return of Chocolate Lover's Walk" sponsored by The Enterprise businesses.  Over twenty merchants are providing Chocolate Delights to each ticket holder.  Along with Chocolate many of the merchants will be having specials for Mothers Day Weekend and drawings.  Ticket buyers will be asked to vote on their choice for the best promotion for the Chocolate Lover's Walk.  Don't forget a day without chocolate is a day without sunshine!
X-ALT-DESC;FMTTYPE=text/html:Come and enjoy the<em><strong> &quot\;The Return of Chocolate Lover&#39\;s Walk&quot\; </strong></em>sponsored by The Enterprise businesses.&nbsp\; Over twenty merchants are providing Chocolate Delights to each ticket holder.&nbsp\; Along with Chocolate many of the merchants will be having specials for Mothers Day Weekend and drawings.&nbsp\; Ticket buyers will be asked to vote on their choice for the best promotion for the Chocolate Lover&#39\;s Walk.&nbsp\; Don&#39\;t forget a day without chocolate is a day without sunshine!
LOCATION:Along Main St and surrounding area in Enterprise
UID:e.1631.2376
SEQUENCE:3
DTSTAMP:20260419T154229Z
URL:https://business.wallowacountychamber.com/events/details/the-return-of-the-chocolate-lover-s-walk-05-11-2013-2376
END:VEVENT

END:VCALENDAR
