BEGIN:VCALENDAR
VERSION:2.0
PRODID:-//ChamberMaster//Event Calendar 2.0//EN
METHOD:PUBLISH
X-PUBLISHED-TTL:P3D
REFRESH-INTERVAL:P3D
CALSCALE:GREGORIAN
BEGIN:VEVENT
DTSTART:20130316T020000Z
DTEND:20130318T040000Z
X-MICROSOFT-CDO-ALLDAYEVENT:FALSE
SUMMARY:"The Egg and I"
DESCRIPTION:"The Egg and I" by Betty MacDonald\, performed by MidValley Theater Company\, will perform this weekend and next weekend at the Providence Academy in Lostine.
X-ALT-DESC;FMTTYPE=text/html:&quot\;The Egg and I&quot\; by Betty MacDonald\, performed by MidValley Theater Company\, will perform this weekend and next weekend at the Providence Academy in Lostine.
LOCATION:Providence Academy 723 College St.\, Lostine
UID:e.1631.2385
SEQUENCE:3
DTSTAMP:20260419T185103Z
URL:https://business.wallowacountychamber.com/events/details/the-egg-and-i-03-15-2013-2385
END:VEVENT

END:VCALENDAR
