BEGIN:VCALENDAR
VERSION:2.0
PRODID:-//ChamberMaster//Event Calendar 2.0//EN
METHOD:PUBLISH
X-PUBLISHED-TTL:P3D
REFRESH-INTERVAL:P3D
CALSCALE:GREGORIAN
BEGIN:VEVENT
DTSTART:20130726T020000Z
DTEND:20130726T040000Z
X-MICROSOFT-CDO-ALLDAYEVENT:FALSE
SUMMARY:The Brann Brothers at the Rimrock Inn
DESCRIPTION:Come spend the evening enjoying the acoustic blues duo comprised of Craig and Darrell Brann. Sit on our beautiful deck while enjoying some delicious food\, the wonderous sites of the canyon and hummingbirds whirling around\, and some amazing music performed live right at your fingertips. Call to make dinner reservations or just stop by to enjoy a drink and some blues!
X-ALT-DESC;FMTTYPE=text/html:<p style="text-align: center\;">\n	Come spend the evening enjoying the acoustic blues duo comprised of Craig and Darrell Brann. Sit on our beautiful deck while enjoying some delicious food\, the wonderous sites of the canyon and hummingbirds whirling around\, and some amazing music performed live right at your fingertips. Call to make dinner reservations or just stop by to enjoy a drink and some blues!</p>\n
LOCATION:83471 Lewiston Hwy. (Hwy 3)\, 37 miles north of Enterprise
UID:e.1631.4407
SEQUENCE:3
DTSTAMP:20260419T121644Z
URL:https://business.wallowacountychamber.com/events/details/the-brann-brothers-at-the-rimrock-inn-07-25-2013-4407
END:VEVENT

END:VCALENDAR
