BEGIN:VCALENDAR
VERSION:2.0
PRODID:-//ChamberMaster//Event Calendar 2.0//EN
METHOD:PUBLISH
X-PUBLISHED-TTL:P3D
REFRESH-INTERVAL:P3D
CALSCALE:GREGORIAN
BEGIN:VEVENT
DTSTART:20130728T010000Z
DTEND:20130728T040000Z
X-MICROSOFT-CDO-ALLDAYEVENT:FALSE
SUMMARY:The Brann Brothers at Calderas
DESCRIPTION:The Brann Brothers will be playing at Calderas this evening in the backyard.  Come and enjoy the backyard for good music\, great food\, wine and beer and fun shopping (10% off everything in the store).
X-ALT-DESC;FMTTYPE=text/html:The Brann Brothers will be playing at Calderas this evening in the backyard.&nbsp\; Come and enjoy the backyard for good music\, great food\, wine and beer and fun shopping (10% off everything in the store).
LOCATION:300 N. Lake St.\, Joseph
UID:e.1631.4406
SEQUENCE:3
DTSTAMP:20260419T121217Z
URL:https://business.wallowacountychamber.com/events/details/the-brann-brothers-at-calderas-07-27-2013-4406
END:VEVENT

END:VCALENDAR
