BEGIN:VCALENDAR
VERSION:2.0
PRODID:-//ChamberMaster//Event Calendar 2.0//EN
METHOD:PUBLISH
X-PUBLISHED-TTL:P3D
REFRESH-INTERVAL:P3D
CALSCALE:GREGORIAN
BEGIN:VEVENT
DTSTART:20130412T160000Z
DTEND:20130412T230000Z
X-MICROSOFT-CDO-ALLDAYEVENT:FALSE
SUMMARY:Tamkaliks Celebration Rummage & Bake Sale
DESCRIPTION:Tamkaliks Celebration Rummage & Bake Sale. The bake sale will include chili\, Indian Tacos\, Fry Bread and Pie by the Slice Served both days.
X-ALT-DESC;FMTTYPE=text/html:Tamkaliks Celebration Rummage &amp\; Bake Sale. The bake sale will include chili\, Indian Tacos\, Fry Bread and Pie by the Slice Served both days.
LOCATION:Wallowa Band Nez Perce Trail Interpretive Center\, 209 E. 2nd St.\, Wallowa
UID:e.1631.2954
SEQUENCE:3
DTSTAMP:20260419T185447Z
URL:https://business.wallowacountychamber.com/events/details/tamkaliks-celebration-rummage-bake-sale-04-12-2013-2954
END:VEVENT

END:VCALENDAR
