BEGIN:VCALENDAR
VERSION:2.0
PRODID:-//ChamberMaster//Event Calendar 2.0//EN
METHOD:PUBLISH
X-PUBLISHED-TTL:P3D
REFRESH-INTERVAL:P3D
CALSCALE:GREGORIAN
BEGIN:VEVENT
DTSTART:20130511T020000Z
DTEND:20130511T040000Z
X-MICROSOFT-CDO-ALLDAYEVENT:FALSE
SUMMARY:"Speakeasy" with TR Ritchie
DESCRIPTION:Don't miss Fishtrap's 2nd Annual Speakeasy fundraising event sponsored by the Fishtrap Board of Directors.  This year's event featuring singer-songwriter\, humorist and poet TR Ritchie will perform music and words to raise funds in support of Fishtrap's programs.  3 amazing prizes will be raffled off\, 10 days at a casita in Baja\, a weekend at Summer Fishtrap including a key note address by Cheryl Strayed and /or a one-day rafting trip for 2 people with Winding Waters River Expeditions.  If you can't make it\, you still have a chance to win one of the raffle prizes\, since you do not need to be present to win.
X-ALT-DESC;FMTTYPE=text/html:Don&#39\;t miss Fishtrap&#39\;s 2nd Annual Speakeasy fundraising event sponsored by the Fishtrap Board of Directors.&nbsp\; This year&#39\;s event featuring singer-songwriter\, humorist and poet TR Ritchie will perform music and words to raise funds in support of Fishtrap&#39\;s programs.&nbsp\; 3 amazing prizes will be raffled off\, 10 days at a casita in Baja\, a weekend at Summer Fishtrap including a key note address by Cheryl Strayed and /or a one-day rafting trip for 2 people with Winding Waters River Expeditions.&nbsp\; If you can&#39\;t make it\, you still have a chance to win one of the raffle prizes\, since you do not need to be present to win.
LOCATION:Josephy Center for Arts & Culture\, 403 N. Main St.\, Joseph
UID:e.1631.4131
SEQUENCE:3
DTSTAMP:20260419T152330Z
URL:https://business.wallowacountychamber.com/events/details/speakeasy-with-tr-ritchie-05-10-2013-4131
END:VEVENT

END:VCALENDAR
