BEGIN:VCALENDAR
VERSION:2.0
PRODID:-//ChamberMaster//Event Calendar 2.0//EN
METHOD:PUBLISH
X-PUBLISHED-TTL:P3D
REFRESH-INTERVAL:P3D
CALSCALE:GREGORIAN
BEGIN:VEVENT
DTSTART:20130727T170000Z
DTEND:20130727T210000Z
X-MICROSOFT-CDO-ALLDAYEVENT:FALSE
SUMMARY:Sorry\, No Joseph Community Farmers' Market
DESCRIPTION:There will be no Farmers' Market in Joseph today.
X-ALT-DESC;FMTTYPE=text/html:<font size="3">There will be no Farmers&#39\; Market in Joseph today.</font><br />\n<br />\n
LOCATION:Joseph Ave. & Main St.\, Joseph
UID:e.1631.4179
SEQUENCE:3
DTSTAMP:20260419T121623Z
URL:https://business.wallowacountychamber.com/events/details/sorry-no-joseph-community-farmers-market-07-27-2013-4179
END:VEVENT

END:VCALENDAR
