BEGIN:VCALENDAR
VERSION:2.0
PRODID:-//ChamberMaster//Event Calendar 2.0//EN
METHOD:PUBLISH
X-PUBLISHED-TTL:P3D
REFRESH-INTERVAL:P3D
CALSCALE:GREGORIAN
BEGIN:VEVENT
DTSTART:20130205T020000Z
DTEND:20130205T040000Z
X-MICROSOFT-CDO-ALLDAYEVENT:FALSE
SUMMARY:Simple Lifestyle Solutions
DESCRIPTION:First of 4 sessions. Provides strategy for a balanced life and healthy outlook.  Cost: $50 ($75 for couples) for four sessions\, includes workbook and cookbook.  Other sessions will be Jan. 21 & 28 and Feb. 4.  To register and for more info: 541-432-0456.
X-ALT-DESC;FMTTYPE=text/html:<span style="text-decoration: none\; text-underline: none"><span style="font-family: arial\, sans-serif"><span style="font-size: medium"><span style="color: #0000ff">First of 4 sessions. Provides strategy for a balanced life and healthy outlook.&nbsp\; Cost: $50 ($75 for couples) for four sessions\, includes workbook and cookbook.&nbsp\; Other sessions will be Jan. 21 &amp\; 28 and Feb. 4.&nbsp\; To register and for more info: 541-432-0456.&nbsp\;</span></span></span></span><br />\n
LOCATION:
UID:e.1631.183
SEQUENCE:3
DTSTAMP:20260419T202604Z
URL:https://business.wallowacountychamber.com/events/details/simple-lifestyle-solutions-02-04-2013-183
END:VEVENT

END:VCALENDAR
