BEGIN:VCALENDAR
VERSION:2.0
PRODID:-//ChamberMaster//Event Calendar 2.0//EN
METHOD:PUBLISH
X-PUBLISHED-TTL:P3D
REFRESH-INTERVAL:P3D
CALSCALE:GREGORIAN
BEGIN:VEVENT
DTSTART:20130405T020000Z
DTEND:20130405T040000Z
X-MICROSOFT-CDO-ALLDAYEVENT:FALSE
SUMMARY:"Searching for Sugarman"
DESCRIPTION:Cinema Night - "Searching for Sugarman": Exceptional documentary about Sixto Rodriguez\, a 1970s folk-rock musician who had fleeting success in the USA but became bigger than Elvis in South Africa - and the later search for him by dedicated fans after his decades-long disappearance. Interesting twists\; winner of the 2013 Academy Award for best documentary.
X-ALT-DESC;FMTTYPE=text/html:<div style="color: gray\;">\n	<span style="color: black\; font-family: &quot\;Times New Roman&quot\;\,&quot\;serif&quot\;\; font-size: 11pt\; mso-fareast-font-family: Calibri\; mso-ansi-language: EN-US\; mso-fareast-language: EN-US\; mso-bidi-language: AR-SA\; mso-fareast-theme-font: minor-latin\;"><strong>Cinema Night - &ldquo\;Searching for Sugarman&rdquo\;:</strong></span><span style="color: black\; font-family: &quot\;Times New Roman&quot\;\,&quot\;serif&quot\;\; font-size: 11pt\; mso-fareast-font-family: Calibri\; mso-ansi-language: EN-US\; mso-fareast-language: EN-US\; mso-bidi-language: AR-SA\; mso-fareast-theme-font: minor-latin\;"> Exceptional documentary about Sixto Rodriguez\, a 1970s folk-rock musician who had fleeting success in the USA but became bigger than Elvis in South Africa - and the later search for him by dedicated fans after his decades-long disappearance. Interesting twists\; winner of the 2013 Academy Award for best documentary. </span></div>\n
LOCATION:Josephy Center for Arts & Culture\, 405 N. Main St.\, Joseph
UID:e.1631.3423
SEQUENCE:3
DTSTAMP:20260419T170804Z
URL:https://business.wallowacountychamber.com/events/details/searching-for-sugarman-04-04-2013-3423
END:VEVENT

END:VCALENDAR
