BEGIN:VCALENDAR
VERSION:2.0
PRODID:-//ChamberMaster//Event Calendar 2.0//EN
METHOD:PUBLISH
X-PUBLISHED-TTL:P3D
REFRESH-INTERVAL:P3D
CALSCALE:GREGORIAN
BEGIN:VEVENT
DTSTART;VALUE=DATE:20130321
DTEND;VALUE=DATE:20130322
TRANSP:TRANSPARENT
X-MICROSOFT-CDO-ALLDAYEVENT:TRUE
SUMMARY:School Garden Education Focus with Cale Nicholson
DESCRIPTION:Cale Nicholson\, Garden Program Specialist with the Delta Garden Study in Marshall\, Arkansas\, will be visiting Wallowa County on March 21. Cale will tour several school gardens and share information on garden education\, Farm to School\, and growing food for use in school cafeterias.  The Delta Garden Study is measuring the impact of school gardens on youth fruit and vegetable intake\, physical activity\, academic achievement and school bonding. From 2010-2013\, Delta Garden Study has implemented seven school garden programs in Arkansas.  Anyone interested is invited to attend a potluck and presentation on Thursday\, March 21 at 12:00 noon at Community Connection in Enterprise.  The Wallowa County Food System Council is sponsoring Nicholson's visit with support from Oregon Rural Action and The Magic Garden Project of the Joseph United Methodist Church. The Wallowa County Food System Council includes farmers\, ranchers and consumers\, as well as representatives of Slow Food Wallowas\, Wallowa County Farmers Market\, Lower Valley Farmers Market\, the Magic Garden\, Community Connection\, Junes' Local Market and the Northeast Oregon Economic Development District. For more information\, or to request a complete schedule of activities\, contact saramiller@neoedd.org\, 541 426 3598.
X-ALT-DESC;FMTTYPE=text/html:<div style="color: gray\;">\n	<span style="color: rgb(0\, 0\, 0)\;"><span style="text-decoration: none\; text-underline: none\;"><span style="font-family: arial\,sans-serif\;"><span style="font-size: medium\;">Cale Nicholson\, Garden Program Specialist with the Delta Garden Study in Marshall\, Arkansas\, will be visiting Wallowa County on March 21. Cale will tour several school gardens and share information on garden education\, Farm to School\, and growing food for use in school cafeterias.&nbsp\;&nbsp\;</span></span></span><span style="text-decoration: none\; text-underline: none\;"><span style="font-family: arial\,sans-serif\;"><span style="font-size: medium\;">The Delta Garden Study is measuring the impact of school gardens on youth fruit and vegetable intake\, physical activity\, academic achievement and school bonding. From 2010-2013\, Delta Garden Study has implemented seven school garden programs in Arkansas.&nbsp\; Anyone interested is invited to attend a potluck and presentation on Thursday\, March 21 at 12:00 noon at Community Connection in Enterprise.&nbsp\; <span style="font-size: medium\;"><span style="font-family: arial\,sans-serif\;">The </span></span><span style="font-family: arial\,sans-serif\;">Wallowa County Food System Council is sponsoring Nicholson&rsquo\;s visit with support from Oregon Rural Action and The Magic Garden Project of the Joseph United Methodist Church. The Wallowa County Food System Council includes farmers\, ranchers and consumers\, as well as representatives of Slow Food Wallowas\, Wallowa County Farmers Market\, Lower Valley Farmers Market\, the Magic Garden\, Community Connection\, Junes&rsquo\; Local Market and the Northeast Oregon Economic Development District. </span><span style="font-family: arial\,sans-serif\;"><span style="font-size: medium\;">For more information\, or to request a complete schedule of activities\, contact </span></span><a href="mailto:saramiller@neoedd.org"><span style="font-size: medium\;"><span style="color: rgb(0\, 0\, 255)\;">saramiller@neoedd.org</span></span></a><span style="font-size: medium\;">\, 541 426 3598. </span></span></span></span></span><br />\n	<br />\n	&nbsp\;</div>\n
LOCATION:Community connection \, 702 NW 1st St.\, Enterprise
UID:e.1631.2525
SEQUENCE:3
DTSTAMP:20260419T185409Z
URL:https://business.wallowacountychamber.com/events/details/school-garden-education-focus-with-cale-nicholson-03-21-2013-2525
END:VEVENT

END:VCALENDAR
