BEGIN:VCALENDAR
VERSION:2.0
PRODID:-//ChamberMaster//Event Calendar 2.0//EN
METHOD:PUBLISH
X-PUBLISHED-TTL:P3D
REFRESH-INTERVAL:P3D
CALSCALE:GREGORIAN
BEGIN:VEVENT
DTSTART;VALUE=DATE:20130713
DTEND;VALUE=DATE:20130721
TRANSP:TRANSPARENT
X-MICROSOFT-CDO-ALLDAYEVENT:TRUE
SUMMARY:Sage Brush Quilt Shop Hop
DESCRIPTION:During the SAGEBRUSH quilt shop hop\, quilters will enjoy 10 quilt shops throughout eastern Oregon & Washington. Two of the shops are located right here in Wallowa County!
X-ALT-DESC;FMTTYPE=text/html:During the SAGEBRUSH quilt shop hop\, quilters will enjoy 10 quilt shops throughout eastern Oregon &amp\; Washington. Two of the shops are located right here in Wallowa County! 
LOCATION:
UID:e.1631.64
SEQUENCE:3
DTSTAMP:20260419T135517Z
URL:https://business.wallowacountychamber.com/events/details/sage-brush-quilt-shop-hop-07-13-2013-64
END:VEVENT

END:VCALENDAR
