BEGIN:VCALENDAR
VERSION:2.0
PRODID:-//ChamberMaster//Event Calendar 2.0//EN
METHOD:PUBLISH
X-PUBLISHED-TTL:P3D
REFRESH-INTERVAL:P3D
CALSCALE:GREGORIAN
BEGIN:VEVENT
DTSTART:20130725T023000Z
DTEND:20130725T050000Z
X-MICROSOFT-CDO-ALLDAYEVENT:FALSE
SUMMARY:Rimrock Inn Presents Romancing the West
DESCRIPTION:The Critically Acclaimed time traveling documentary concert comes to beautiful Rimrock Inn\, Wednesday Evening at 7:30.  The show features the history of Chief Joseph in narrative\, video and music and spans 240 years of the American West decade by decade in the music of every era from ragtime to rock.  Featuring award winning artists including folk duo Gypsy Soul\, Sons of the Oregon Trail\, Martin Gerschwitz of Iron Butterfly\, John Elliott and Chuck Girard of Lovesong.
X-ALT-DESC;FMTTYPE=text/html:The Critically Acclaimed time traveling documentary concert comes to beautiful Rimrock Inn\, Wednesday Evening at 7:30.&nbsp\; The show features the history of Chief Joseph in narrative\, video and music and spans 240 years of the American West decade by decade in the music of every era from ragtime to rock.&nbsp\; Featuring award winning artists including folk duo Gypsy Soul\, Sons of the Oregon Trail\, Martin Gerschwitz of Iron Butterfly\, John Elliott and Chuck Girard of Lovesong.
LOCATION:Rimrock Inn\, 83471 Lewiston Hwy. (Hwy 3)\, 38 miles north of Enterprise
UID:e.1631.4372
SEQUENCE:3
DTSTAMP:20260419T121141Z
URL:https://business.wallowacountychamber.com/events/details/rimrock-inn-presents-romancing-the-west-07-24-2013-4372
END:VEVENT

END:VCALENDAR
