BEGIN:VCALENDAR
VERSION:2.0
PRODID:-//ChamberMaster//Event Calendar 2.0//EN
METHOD:PUBLISH
X-PUBLISHED-TTL:P3D
REFRESH-INTERVAL:P3D
CALSCALE:GREGORIAN
BEGIN:VEVENT
DTSTART:20260727T000000Z
DTEND:20260727T020000Z
X-MICROSOFT-CDO-ALLDAYEVENT:FALSE
SUMMARY:Riders in the Sky at OK Theatre
DESCRIPTION:Sadle up\, Buckaroos and Buckarettes! The Riders in The Sky are returning to the OK Theatre Stage!\n\n\n\n\n\nTwo time Grammy winning musical sensation\, Riders in The Sky are making there way back to Enterprise Oregon and the OK Theatre Stage!\n\n \n\nBio-\n\nIt seemed to go by in a blur\, pounding the road\, seeing the world\, raising babies and sending them to college\, mowing lawns\, romances\, marriages\, high school drama\, endless airports\, the nights at the Hollywood Bowl\, the night at the Red Barn in Louisville dodging various barroom projectiles\, frozen diesel lines\, blast furnace desert heat\, hours of practice\, late nights and early mornings\, and lots and lots and lots of laughter.\n\nNo laptops\, no cellular phones\, no Google\, no downloads\, no Skype\, no Tweets\, no Apple\, no Microsoft\, no texting\, no electric cars\, no Uber. A different world. But there were three young men with drive and wit who wanted to keep a special music alive. They believed in preserving the heritage of Western Music and presenting it to a new generation. They believed in entertaining\, and they did so  entertaining themselves as well as the audience! And they believed in creating original Western Music to continue the tradition\, not just seal it in amber as a museum piece. What they did not realize at the time was that they would be doing the same thing nearly 50 years later.
X-ALT-DESC;FMTTYPE=text/html:<div class="StructuredModuleRenderer_structuredContent__k7mNB StructuredModuleRenderer_text__GaXOv" data-testid="text-content" style="box-sizing: border-box\; padding: 0px\; margin: 0px\; color: rgb(88\, 81\, 99)\; align-self: stretch\; overflow: hidden\; text-overflow: ellipsis\; font-weight: 400\; line-height: 23.94px\; letter-spacing: 0.1px\; font-size: 18px\; font-family: &quot\;Neue Plak&quot\;\, -apple-system\, BlinkMacSystemFont\, Roboto\, &quot\;Helvetica Neue&quot\;\, Helvetica\, Tahoma\, Arial\, sans-serif\; font-style: normal\; font-variant-ligatures: normal\; font-variant-caps: normal\; orphans: 2\; text-align: start\; text-indent: 0px\; text-transform: none\; widows: 2\; word-spacing: 0px\; -webkit-text-stroke-width: 0px\; white-space: normal\; text-decoration-thickness: initial\; text-decoration-style: initial\; text-decoration-color: initial\;">\n<div style="box-sizing: border-box\; padding: 0px\; margin: 0px\;">\n<p style="box-sizing: border-box\; padding: 0px 0px 12px\; margin: 0px\;">Sadle up\, Buckaroos and Buckarettes! The Riders in The Sky are returning to the OK Theatre Stage!</p>\n</div>\n</div>\n\n<div class="StructuredModuleRenderer_structuredContent__k7mNB StructuredModuleRenderer_text__GaXOv" data-testid="text-content" style="box-sizing: border-box\; padding: 0px\; margin: 0px\; color: rgb(88\, 81\, 99)\; align-self: stretch\; overflow: hidden\; text-overflow: ellipsis\; font-weight: 400\; line-height: 23.94px\; letter-spacing: 0.1px\; font-size: 18px\; font-family: &quot\;Neue Plak&quot\;\, -apple-system\, BlinkMacSystemFont\, Roboto\, &quot\;Helvetica Neue&quot\;\, Helvetica\, Tahoma\, Arial\, sans-serif\; font-style: normal\; font-variant-ligatures: normal\; font-variant-caps: normal\; orphans: 2\; text-align: start\; text-indent: 0px\; text-transform: none\; widows: 2\; word-spacing: 0px\; -webkit-text-stroke-width: 0px\; white-space: normal\; text-decoration-thickness: initial\; text-decoration-style: initial\; text-decoration-color: initial\;">\n<div style="box-sizing: border-box\; padding: 0px\; margin: 0px\;">\n<p style="box-sizing: border-box\; padding: 0px 0px 12px\; margin: 0px\;">Two time Grammy winning musical sensation\, Riders in The Sky are making there way back to Enterprise Oregon and the OK Theatre Stage!<br />\n&nbsp\;</p>\n\n<p style="box-sizing: border-box\; padding: 0px 0px 12px\; margin: 12px 0px 0px\; color: rgb(88\, 81\, 99)\; font-family: &quot\;Neue Plak&quot\;\, -apple-system\, BlinkMacSystemFont\, Roboto\, &quot\;Helvetica Neue&quot\;\, Helvetica\, Tahoma\, Arial\, sans-serif\; font-size: 18px\; font-style: normal\; font-variant-ligatures: normal\; font-variant-caps: normal\; font-weight: 400\; letter-spacing: 0.1px\; orphans: 2\; text-align: start\; text-indent: 0px\; text-transform: none\; widows: 2\; word-spacing: 0px\; -webkit-text-stroke-width: 0px\; white-space: normal\; text-decoration-thickness: initial\; text-decoration-style: initial\; text-decoration-color: initial\;">Bio-</p>\n\n<p style="box-sizing: border-box\; padding: 0px 0px 12px\; margin: 12px 0px 0px\; color: rgb(88\, 81\, 99)\; font-family: &quot\;Neue Plak&quot\;\, -apple-system\, BlinkMacSystemFont\, Roboto\, &quot\;Helvetica Neue&quot\;\, Helvetica\, Tahoma\, Arial\, sans-serif\; font-size: 18px\; font-style: normal\; font-variant-ligatures: normal\; font-variant-caps: normal\; font-weight: 400\; letter-spacing: 0.1px\; orphans: 2\; text-align: start\; text-indent: 0px\; text-transform: none\; widows: 2\; word-spacing: 0px\; -webkit-text-stroke-width: 0px\; white-space: normal\; text-decoration-thickness: initial\; text-decoration-style: initial\; text-decoration-color: initial\;">It seemed to go by in a blur\, pounding the road\, seeing the world\, raising babies and sending them to college\, mowing lawns\, romances\, marriages\, high school drama\, endless airports\, the nights at the Hollywood Bowl\, the night at the Red Barn in Louisville dodging various barroom projectiles\, frozen diesel lines\, blast furnace desert heat\, hours of practice\, late nights and early mornings\, and lots and lots and lots of laughter.</p>\n\n<p style="box-sizing: border-box\; padding: 0px 0px 12px\; margin: 12px 0px 0px\; color: rgb(88\, 81\, 99)\; font-family: &quot\;Neue Plak&quot\;\, -apple-system\, BlinkMacSystemFont\, Roboto\, &quot\;Helvetica Neue&quot\;\, Helvetica\, Tahoma\, Arial\, sans-serif\; font-size: 18px\; font-style: normal\; font-variant-ligatures: normal\; font-variant-caps: normal\; font-weight: 400\; letter-spacing: 0.1px\; orphans: 2\; text-align: start\; text-indent: 0px\; text-transform: none\; widows: 2\; word-spacing: 0px\; -webkit-text-stroke-width: 0px\; white-space: normal\; text-decoration-thickness: initial\; text-decoration-style: initial\; text-decoration-color: initial\;">No laptops\, no cellular phones\, no Google\, no downloads\, no Skype\, no Tweets\, no Apple\, no Microsoft\, no texting\, no electric cars\, no Uber. A different world. But there were three young men with drive and wit who wanted to keep a special music alive. They believed in preserving the heritage of Western Music and presenting it to a new generation. They believed in entertaining\, and they did so&hellip\; entertaining themselves as well as the audience! And they believed in creating original Western Music to continue the tradition\, not just seal it in amber as a museum piece. What they did not realize at the time was that they would be doing the same thing nearly 50 years later.</p>\n</div>\n</div>\n
LOCATION:OK Theatre\, Enterprise
UID:e.1631.29417
SEQUENCE:3
DTSTAMP:20260424T222126Z
URL:https://business.wallowacountychamber.com/events/details/riders-in-the-sky-at-ok-theatre-29417
END:VEVENT

END:VCALENDAR
