BEGIN:VCALENDAR
VERSION:2.0
PRODID:-//ChamberMaster//Event Calendar 2.0//EN
METHOD:PUBLISH
X-PUBLISHED-TTL:P3D
REFRESH-INTERVAL:P3D
CALSCALE:GREGORIAN
BEGIN:VEVENT
DTSTART:20130613T010000Z
DTEND:20130613T030000Z
X-MICROSOFT-CDO-ALLDAYEVENT:FALSE
SUMMARY:Read N' Feed
DESCRIPTION:Slow Food Wallowas announces a new book-supper club\, Read N' Feed.  Everyone is welcome to the first potluck gathering at Fishtrap's Coffin House on Wednesday\, June 12th at 6 p.m. There is no fee to attend and donations will be accepted.\n\n \n\nRead N' Feed is a community-wide reading group sparking conversations about global food topics while enjoying the priceless pleasures of food and community.\n\n \n\nThe first book selected is Slow Food Nation by Carlo Petrini. In a rebuttal to the best-selling book\, Fast Food Nation\, the charismatic leader of the Slow Food movement makes a case for why food must be sustainably produced\, why those who produce the food must be fairly treated\, and why the food must be healthful and delicious. \n\n \n\nSlow Food Wallowas is sharing 5 copies of the book\, which is available only through online sites\, such as Amazon.com. Contact Adele Nash--(541) 426-0381\,adelemnash@gmail.com--to borrow a copy.
X-ALT-DESC;FMTTYPE=text/html:Slow Food Wallowas announces a new book-supper club\, <strong>Read N&rsquo\; Feed</strong>.&nbsp\; Everyone is welcome to the first potluck gathering at Fishtrap&rsquo\;s Coffin House on Wednesday\, June 12<sup>th</sup> at 6 p.m. There is no fee to attend and donations will be accepted.<br />\n&nbsp\;<br />\nRead N&rsquo\; Feed is a community-wide reading group sparking conversations about global food topics while enjoying the priceless pleasures of food and community.<br />\n&nbsp\;<br />\nThe first book selected is <strong><em>Slow Food Nation</em></strong> by Carlo Petrini. In a rebuttal to the best-selling book\, <em>Fast Food Nation</em>\, the charismatic leader of the Slow Food movement makes a case for why food must be sustainably produced\, why those who produce the food must be fairly treated\, and why the food must be healthful and delicious.&nbsp\;<br />\n&nbsp\;<br />\nSlow Food Wallowas is sharing 5 copies of the book\, which is available only through online sites\, such as Amazon.com. Contact Adele Nash--(541) 426-0381\,adelemnash@gmail.com--to borrow a copy.
LOCATION:Fishtrap House\, 400 E. Grant St.\, Enterprise
UID:e.1631.4290
SEQUENCE:3
DTSTAMP:20260419T134644Z
URL:https://business.wallowacountychamber.com/events/details/read-n-feed-06-12-2013-4290
END:VEVENT

END:VCALENDAR
