BEGIN:VCALENDAR
VERSION:2.0
PRODID:-//ChamberMaster//Event Calendar 2.0//EN
METHOD:PUBLISH
X-PUBLISHED-TTL:P3D
REFRESH-INTERVAL:P3D
CALSCALE:GREGORIAN
BEGIN:VEVENT
DTSTART;VALUE=DATE:20130525
DTEND;VALUE=DATE:20130527
TRANSP:TRANSPARENT
X-MICROSOFT-CDO-ALLDAYEVENT:TRUE
SUMMARY:Promise Reunion
DESCRIPTION:The Promise Reunion will begin on Saturday with a chili feed\, bring musical instruments for nighttime music.  On Sunday there will be a 10:30am church service and a potluck will begin at 1:00pm a program will follow
X-ALT-DESC;FMTTYPE=text/html:The Promise Reunion will begin on Saturday with a chili feed\, bring musical instruments for nighttime music.&nbsp\; On Sunday there will be a 10:30am church service and a potluck will begin at 1:00pm a program will follow
LOCATION:Promise Grange Hall\, Promise
UID:e.1631.4197
SEQUENCE:3
DTSTAMP:20260419T171007Z
URL:https://business.wallowacountychamber.com/events/details/promise-reunion-05-25-2013-4197
END:VEVENT

END:VCALENDAR
