BEGIN:VCALENDAR
VERSION:2.0
PRODID:-//ChamberMaster//Event Calendar 2.0//EN
METHOD:PUBLISH
X-PUBLISHED-TTL:P3D
REFRESH-INTERVAL:P3D
CALSCALE:GREGORIAN
BEGIN:VEVENT
DTSTART:20260622T230000Z
DTEND:20260623T000000Z
X-MICROSOFT-CDO-ALLDAYEVENT:FALSE
SUMMARY:Postpartum Support Group
DESCRIPTION:Open to anyone who has given birth in the past 2 years. Topics determined by interest of participants including themes of relational and personal transformation\, birth\, social and emotional wellbeing\, with a focus on building community.
X-ALT-DESC;FMTTYPE=text/html:Open to anyone who has given birth in the past 2 years. Topics determined by interest of participants including themes of relational and personal transformation\, birth\, social and emotional wellbeing\, with a focus on building community.
LOCATION:Hearts for Health\, Enterprise
UID:e.1631.29367
SEQUENCE:3
DTSTAMP:20260424T203619Z
URL:https://business.wallowacountychamber.com/events/details/postpartum-support-group-29367
END:VEVENT

END:VCALENDAR
