BEGIN:VCALENDAR
VERSION:2.0
PRODID:-//ChamberMaster//Event Calendar 2.0//EN
METHOD:PUBLISH
X-PUBLISHED-TTL:P3D
REFRESH-INTERVAL:P3D
CALSCALE:GREGORIAN
BEGIN:VEVENT
DTSTART:20130215T000000Z
DTEND:20130215T050000Z
X-MICROSOFT-CDO-ALLDAYEVENT:FALSE
SUMMARY:Outlaw Restaurant Valentine's Dinner
DESCRIPTION:Join us for Valentine's Dinner!!  Always the perfect choice for a Candlelight Dinner .  Call For Reservations at 541-432-4321
X-ALT-DESC;FMTTYPE=text/html:Join us for Valentine&#39\;s Dinner!!&nbsp\; Always the perfect choice for a Candlelight Dinner .&nbsp\; Call For Reservations at 541-432-4321
LOCATION:108 N. Main St.\, Joseph
UID:e.1631.546
SEQUENCE:3
DTSTAMP:20260419T203301Z
URL:https://business.wallowacountychamber.com/events/details/outlaw-restaurant-valentine-s-dinner-02-14-2013-546
END:VEVENT

END:VCALENDAR
