BEGIN:VCALENDAR
VERSION:2.0
PRODID:-//ChamberMaster//Event Calendar 2.0//EN
METHOD:PUBLISH
X-PUBLISHED-TTL:P3D
REFRESH-INTERVAL:P3D
CALSCALE:GREGORIAN
BEGIN:VEVENT
DTSTART:20130222T013000Z
DTEND:20130222T033000Z
X-MICROSOFT-CDO-ALLDAYEVENT:FALSE
SUMMARY:OPEN HOUSE! Wallowa County Chamber of Commerce After Business Hours Social networking Report on the 2012 Economy
DESCRIPTION:The 2012 Economy and Wallowa County with speakers: Jason Yohannan\, EO Regional Economist\; John Williams\, Wallowa County Extension Service and Mike Hayward\, Chair\, Wallowa County Commissioner will be held at Tomas Conference Room.  This meeting is open to all citizens of Wallowa County.  The chamber will provide refreshments.  This is a great opportunity to network with other business owners.  We invite all citizens to hear this report.  Bring your questions on the economy and invite a friend!
X-ALT-DESC;FMTTYPE=text/html:<span style="text-decoration: none\; text-underline: none"><span style="font-family: arial\, sans-serif"><span style="font-size: medium">The 2012 Economy and Wallowa County with speakers: Jason Yohannan\, EO Regional Economist\; John Williams\, Wallowa County Extension Service and Mike Hayward\, Chair\, Wallowa County Commissioner will be held at Tomas Conference Room.&nbsp\; This meeting is open to all citizens of Wallowa County.&nbsp\; The chamber will provide refreshments.&nbsp\; This is a great opportunity to network with other business owners.&nbsp\; We invite all citizens to hear this report.&nbsp\; Bring your questions on the economy and invite a friend!&nbsp\;</span></span></span><br />\n
LOCATION:Tomas Business Center\, 309 S. River St. Enterpise
UID:e.1631.335
SEQUENCE:3
DTSTAMP:20260419T204615Z
URL:https://business.wallowacountychamber.com/events/details/open-house-wallowa-county-chamber-of-commerce-after-business-hours-social-networking-report-on-the-2012-economy-02-21-2013-335
END:VEVENT

END:VCALENDAR
