BEGIN:VCALENDAR
VERSION:2.0
PRODID:-//ChamberMaster//Event Calendar 2.0//EN
METHOD:PUBLISH
X-PUBLISHED-TTL:P3D
REFRESH-INTERVAL:P3D
CALSCALE:GREGORIAN
BEGIN:VEVENT
DTSTART:20130211T170000Z
DTEND:20130212T000000Z
X-MICROSOFT-CDO-ALLDAYEVENT:FALSE
SUMMARY:Open House at Soroptimist Thrift Shop
DESCRIPTION:The Public is invited to an open house at the Soroptimist Shop.  Come and check our new remodeling.  There will be cookies and drawings.
X-ALT-DESC;FMTTYPE=text/html:The Public is invited to an open house at the Soroptimist Shop.&nbsp\; Come and check our new remodeling.&nbsp\; There will be cookies and drawings.
LOCATION:105 NE 1st St.\, Odd Fellows Hall\, Enterprise
UID:e.1631.340
SEQUENCE:3
DTSTAMP:20260419T203424Z
URL:https://business.wallowacountychamber.com/events/details/open-house-at-soroptimist-thrift-shop-02-11-2013-340
END:VEVENT

END:VCALENDAR
