BEGIN:VCALENDAR
VERSION:2.0
PRODID:-//ChamberMaster//Event Calendar 2.0//EN
METHOD:PUBLISH
X-PUBLISHED-TTL:P3D
REFRESH-INTERVAL:P3D
CALSCALE:GREGORIAN
BEGIN:VEVENT
DTSTART:20130720T170000Z
DTEND:20130721T010000Z
X-MICROSOFT-CDO-ALLDAYEVENT:FALSE
SUMMARY:Norman Arts Gallery Grand Opening
DESCRIPTION:The Grand Opening for Norman Arts Gallery will be held today.  The "River Dance " monument will be installed by the Joseph post office as 11 am.  Come join family and friends for a good time throughout the afternoon.  New art work\, refreshments and music  will be available.
X-ALT-DESC;FMTTYPE=text/html:<span style="font-size:14px\;"><span style="font-family: comic sans ms\;">The <strong>Grand Opening</strong> for <em><strong>Norman Arts Gallery</strong></em> will be held today</span>.&nbsp\; <span style="font-family: comic sans ms\;">The &quot\;River Dance &quot\; monument will be installed by the Joseph post office as 11 am.&nbsp\; Come join family and friends for a good time throughout the afternoon.&nbsp\; New art work\, refreshments and music&nbsp\; will be available.</span></span>
LOCATION:3 1/2 South Main Street\, Joseph
UID:e.1631.4361
SEQUENCE:3
DTSTAMP:20260419T121053Z
URL:https://business.wallowacountychamber.com/events/details/norman-arts-gallery-grand-opening-07-20-2013-4361
END:VEVENT

END:VCALENDAR
