BEGIN:VCALENDAR
VERSION:2.0
PRODID:-//ChamberMaster//Event Calendar 2.0//EN
METHOD:PUBLISH
X-PUBLISHED-TTL:P3D
REFRESH-INTERVAL:P3D
CALSCALE:GREGORIAN
BEGIN:VEVENT
DTSTART:20130512T170000Z
DTEND:20130512T203000Z
X-MICROSOFT-CDO-ALLDAYEVENT:FALSE
SUMMARY:Mother's Day on the Eagle Cap Excursion Train
DESCRIPTION:Mother's Day is opening day for the Eagle Cap Excursion Train's 2013 season and an excellent opportunity to enjoy the beautiful spring scenery along the Grande Ronde and Wallowa Rivers. Always popular\, the Mother's Day Brunch Train departs at 10 a.m. from the new Elgin Depot. Brunch is served during the 3.5 hour ride. The meal includes a selection of breakfast and lunch entrees\, pastries\, fruit and beverages\, prepared by Ten Depot Street Restaurant in La Grande. Passengers can relax in their seats or move about the train. The open doors in the vestibules and baggage car offer excellent photo opportunities and viewing of the passing landscape. \n\n \n\nTickets are available through Alegre Travel\, the excursion train booking agency\, 541.963.9000 or 800.323.7330. Agents can also\, upon request\, book motel rooms and offer advice on other activities and attractions in the area.
X-ALT-DESC;FMTTYPE=text/html:<span style="font-family: comic sans ms\;"><span style="font-size: medium\;">Mother&#39\;s Day is opening day for the Eagle Cap Excursion Train&#39\;s 2013 season and an excellent opportunity to enjoy the beautiful spring scenery along the Grande Ronde and Wallowa Rivers. Always popular\, the Mother&#39\;s Day Brunch Train departs at 10 a.m. from the new Elgin Depot. Brunch is served during the 3.5 hour ride. The meal includes a selection of breakfast and lunch entrees\, pastries\, fruit and beverages\, prepared by Ten Depot Street Restaurant in La Grande. Passengers can relax in their seats or move about the train. The open doors in the vestibules and baggage car offer excellent photo opportunities and viewing of the passing landscape. </span><br />\n&nbsp\;<br />\n<span style="font-size: medium\;">Tickets are available through Alegre Travel\, the excursion train booking agency\, 541.963.9000 or 800.323.7330. Agents can also\, upon request\, book motel rooms and offer advice on other activities and attractions in the area.</span></span><br />\n
LOCATION:Elgin Railroad Depot\, Elgin
UID:e.1631.3715
SEQUENCE:3
DTSTAMP:20260419T152631Z
URL:https://business.wallowacountychamber.com/events/details/mother-s-day-on-the-eagle-cap-excursion-train-05-12-2013-3715
END:VEVENT

END:VCALENDAR
