BEGIN:VCALENDAR
VERSION:2.0
PRODID:-//ChamberMaster//Event Calendar 2.0//EN
METHOD:PUBLISH
X-PUBLISHED-TTL:P3D
REFRESH-INTERVAL:P3D
CALSCALE:GREGORIAN
BEGIN:VEVENT
DTSTART:20130511T220000Z
DTEND:20130512T020000Z
X-MICROSOFT-CDO-ALLDAYEVENT:FALSE
SUMMARY:Mother's Day Art Walk
DESCRIPTION:A dozen galleries offer new work\, artist demonstrations\, hors d'oeuvres and wine as visitors stroll Main Street. Participants can also view Main Street bronzes by nationally recognized artists or tour one of the local bronze foundries. Joseph.
X-ALT-DESC;FMTTYPE=text/html:A dozen galleries offer new work\, artist demonstrations\, hors d&#39\;oeuvres and wine as visitors stroll Main Street. Participants can also view Main Street bronzes by nationally recognized artists or tour one of the local bronze foundries. Joseph.
LOCATION:Main St. Joseph
UID:e.1631.52
SEQUENCE:3
DTSTAMP:20260419T152710Z
URL:https://business.wallowacountychamber.com/events/details/mother-s-day-art-walk-05-11-2013-52
END:VEVENT

END:VCALENDAR
