BEGIN:VCALENDAR
VERSION:2.0
PRODID:-//ChamberMaster//Event Calendar 2.0//EN
METHOD:PUBLISH
X-PUBLISHED-TTL:P3D
REFRESH-INTERVAL:P3D
CALSCALE:GREGORIAN
BEGIN:VEVENT
DTSTART:20130424T020000Z
DTEND:20130424T040000Z
X-MICROSOFT-CDO-ALLDAYEVENT:FALSE
SUMMARY:Misadventures in India
DESCRIPTION:In 2012\, Enterprise photographer and mountain climber David Jensen took his cameras to India.  There he climbed a 20\,000' mountain in the Himalayas and hung out with fractious Muslims\, Hindus\, Buddhists\, Sikhs and the Dalai Lama.  Misadventures in India is his slide show account of the ten weeks he spent in exotic and often appalling locations\, consists of still photos\, video clips and occasional interviews with characters he met along the way.
X-ALT-DESC;FMTTYPE=text/html:In 2012\, Enterprise photographer and mountain climber David Jensen took his cameras to India.&nbsp\; There he climbed a 20\,000&#39\; mountain in the Himalayas and hung out with fractious Muslims\, Hindus\, Buddhists\, Sikhs and the Dalai Lama.&nbsp\; <em><strong>Misadventures in India </strong></em>is his slide show account of the ten weeks he spent in exotic and often appalling locations\, consists of still photos\, video clips and occasional interviews with characters he met along the way.
LOCATION:Fishtrap House\, 400 E. Grant St.\, Enterprise
UID:e.1631.2960
SEQUENCE:3
DTSTAMP:20260419T170742Z
URL:https://business.wallowacountychamber.com/events/details/misadventures-in-india-04-23-2013-2960
END:VEVENT

END:VCALENDAR
