BEGIN:VCALENDAR
VERSION:2.0
PRODID:-//ChamberMaster//Event Calendar 2.0//EN
METHOD:PUBLISH
X-PUBLISHED-TTL:P3D
REFRESH-INTERVAL:P3D
CALSCALE:GREGORIAN
BEGIN:VEVENT
DTSTART:20130224T170000Z
DTEND:20130224T200000Z
X-MICROSOFT-CDO-ALLDAYEVENT:FALSE
SUMMARY:Meat Shoot by Wallowa FFA Alumni
DESCRIPTION:Shooting starts at 9:00am.  Novices welcome\, prizes awarded\, non-shooter games\, raffle items.  Breakfast and lunch available
X-ALT-DESC;FMTTYPE=text/html:Shooting starts at 9:00am.&nbsp\; Novices welcome\, prizes awarded\, non-shooter games\, raffle items.&nbsp\; Breakfast and lunch available
LOCATION:Wallowa Rod and Gun Clubhouse\, Lower Diamond Lane
UID:e.1631.1830
SEQUENCE:3
DTSTAMP:20260419T203131Z
URL:https://business.wallowacountychamber.com/events/details/meat-shoot-by-wallowa-ffa-alumni-02-24-2013-1830
END:VEVENT

END:VCALENDAR
