BEGIN:VCALENDAR
VERSION:2.0
PRODID:-//ChamberMaster//Event Calendar 2.0//EN
METHOD:PUBLISH
X-PUBLISHED-TTL:P3D
REFRESH-INTERVAL:P3D
CALSCALE:GREGORIAN
BEGIN:VEVENT
DTSTART:20260430T020000Z
DTEND:20260430T040000Z
X-MICROSOFT-CDO-ALLDAYEVENT:FALSE
SUMMARY:Matt Axton at Range Rider
DESCRIPTION:Matt Axton at Range Rider!
X-ALT-DESC;FMTTYPE=text/html:Matt Axton at Range Rider!
LOCATION:Range Rider\, Enterprise
UID:e.1631.29402
SEQUENCE:3
DTSTAMP:20260421T084744Z
URL:https://business.wallowacountychamber.com/events/details/matt-axton-at-range-rider-29402
END:VEVENT

END:VCALENDAR
