BEGIN:VCALENDAR
VERSION:2.0
PRODID:-//ChamberMaster//Event Calendar 2.0//EN
METHOD:PUBLISH
X-PUBLISHED-TTL:P3D
REFRESH-INTERVAL:P3D
CALSCALE:GREGORIAN
BEGIN:VEVENT
DTSTART;VALUE=DATE:20130712
DTEND;VALUE=DATE:20130714
TRANSP:TRANSPARENT
X-MICROSOFT-CDO-ALLDAYEVENT:TRUE
SUMMARY:Main Street Motors Grand Opening Celebration
DESCRIPTION:Main Street Motors will celebrate Bowlby Bash with their Grand Opening.  On Friday there will be a barbecue starting at 4:00pm and goes till we're done.  On Saturday there will be a car show\, bring down your classic car and show it off!!! from 8 am-5 pm.  Spin the wheel and get a chance for one of our giveaways! and there will be games for kids.
X-ALT-DESC;FMTTYPE=text/html:Main Street Motors will celebrate Bowlby Bash with their Grand Opening.&nbsp\; On Friday there will be a barbecue starting at 4:00pm and goes till we&#39\;re done.&nbsp\; On Saturday there will be a car show\, bring down your classic car and show it off!!! from 8 am-5 pm.&nbsp\; Spin the wheel and get a chance for one of our giveaways! and there will be games for kids.
LOCATION:311 W. Main St.\, Enterprise
UID:e.1631.4353
SEQUENCE:3
DTSTAMP:20260419T121412Z
URL:https://business.wallowacountychamber.com/events/details/main-street-motors-grand-opening-celebration-07-12-2013-4353
END:VEVENT

END:VCALENDAR
