BEGIN:VCALENDAR
VERSION:2.0
PRODID:-//ChamberMaster//Event Calendar 2.0//EN
METHOD:PUBLISH
X-PUBLISHED-TTL:P3D
REFRESH-INTERVAL:P3D
CALSCALE:GREGORIAN
BEGIN:VEVENT
DTSTART;VALUE=DATE:20130705
DTEND;VALUE=DATE:20130707
TRANSP:TRANSPARENT
X-MICROSOFT-CDO-ALLDAYEVENT:TRUE
SUMMARY:Lostine Tavern Yard Sale & Taco Feed
DESCRIPTION:On July 5th and 6th\, the Lostine Tavern will be open in a limited capacity as part of the Lostine Flea Market festivities.\n\n\n\nThe Lostine Tavern LT is holding a yard sale/taco feed to prepare the interior of the building for renovations.  Building owner Peter Ferre and his business partner Lynne Curry plan to bring the building back to its historic condition\, including exposing the original wood floors and tongue-in-groove ceilings.\n\n\n\nOver the 5th and 6th\, the LT welcomes anyone with a coffee cup or old photo in the LT to come retrieve it for safe keeping during the renovations.  Everyone is invited to browse the contents of the building during the yard sale for treasures\, including beer and novelty signs\, tables\, chairs\, appliances\, coffee makers\, and much more!\n\n\n\nTacos and soft drinks will be served during this two-day yard sale for a donation.\n\n\n\nAll proceeds will go to the Facade Fund.  This is a matching fund for a grant to restore the storefront when the building operated as the drugstore know as McKenzie's Place at the turn of the 20th century.
X-ALT-DESC;FMTTYPE=text/html:On July 5th and 6th\, the Lostine Tavern will be open in a limited capacity as part of the Lostine Flea Market festivities.<br />\n<br />\nThe Lostine Tavern LT is holding a yard sale/taco feed to prepare the interior of the building for renovations.&nbsp\; Building owner Peter Ferre and his business partner Lynne Curry plan to bring the building back to its historic condition\, including exposing the original wood floors and tongue-in-groove ceilings.<br />\n<br />\nOver the 5th and 6th\, the LT welcomes anyone with a coffee cup or old photo in the LT to come retrieve it for safe keeping during the renovations.&nbsp\; Everyone is invited to browse the contents of the building during the yard sale for treasures\, including beer and novelty signs\, tables\, chairs\, appliances\, coffee makers\, and much more!<br />\n<br />\nTacos and soft drinks will be served during this two-day yard sale for a donation.<br />\n<br />\nAll proceeds will go to the Facade Fund.&nbsp\; This is a matching fund for a grant to restore the storefront when the building operated as the drugstore know as McKenzie&#39\;s Place at the turn of the 20th century.&nbsp\;<br />\n
LOCATION:Lostine Tavern\, Lostine Oregon
UID:e.1631.4335
SEQUENCE:3
DTSTAMP:20260419T121418Z
URL:https://business.wallowacountychamber.com/events/details/lostine-tavern-yard-sale-taco-feed-07-05-2013-4335
END:VEVENT

END:VCALENDAR
