BEGIN:VCALENDAR
VERSION:2.0
PRODID:-//ChamberMaster//Event Calendar 2.0//EN
METHOD:PUBLISH
X-PUBLISHED-TTL:P3D
REFRESH-INTERVAL:P3D
CALSCALE:GREGORIAN
BEGIN:VEVENT
DTSTART:20130212T020000Z
DTEND:20130212T043000Z
X-MICROSOFT-CDO-ALLDAYEVENT:FALSE
SUMMARY:Living Well with Chronic Conditions Workshop
DESCRIPTION:Living Well with Chronic Conditions workshops help people learn to manage the day-to-day challenges of living with any chronic condition that causes you pain\, fatigue\, stress and/or other symptoms. People with any chronic condition have similar concerns and problems. In this workshop you will gain important skills to help you live a healthier and happier life.  The 6 week course meets on Monday evenings 6:00 to 8:30pm at the new medical building in Enterprise. Dates for this workshop January 7th\, 14th\, 21st\, 28th and Feb 4th and 11th.  The workshop is free and all participants receive a free book called "Living a Healthy Life with Chronic Conditions".  Free snacks are provided by Safeway.  Contact Vixen Radford at 541-398-2539\, or email vradford@neonoregon.org.
X-ALT-DESC;FMTTYPE=text/html:<div style="color: gray">\n	<span style="font-size: medium"><span style="text-decoration: none\; text-underline: none"><span style="font-family: arial\, sans-serif">Living Well with Chronic Conditions workshops help people learn to manage the day-to-day challenges of living with any chronic condition that causes you pain\, fatigue\, stress and/or other symptoms. People with any chronic condition have similar concerns and problems. In this workshop you will gain important skills to help you live a healthier and happier life.&nbsp\; The 6 week course meets on Monday evenings 6:00 to 8:30pm at the new medical building in Enterprise. Dates for this workshop January 7th\, 14th\, 21st\, 28th and Feb 4th and 11th.&nbsp\; The workshop is free and all participants receive a free book called &ldquo\;Living a Healthy Life with Chronic Conditions&rdquo\;.&nbsp\; Free snacks are provided by Safeway.&nbsp\; Contact Vixen Radford at 541-398-2539\, or email </span></span></span><span style="text-decoration: none\; text-underline: none"><span style="font-family: arial\, sans-serif"><span style="text-decoration: none\; text-underline: none"><span style="font-family: arial\, sans-serif"><a href="mailto:vradford@neonoregon.org" mce_href="mailto:vradford@neonoregon.org"><span style="text-decoration: none\; text-underline: none">vradford</span></a></span></span><span style="text-decoration: none\; text-underline: none">@neonoregon.org</span></span>.</span>&nbsp\;&nbsp\;<br />\n	&nbsp\;</div>\n
LOCATION:New Medical Annex\, 601 Medical Parkway\, Enterprise
UID:e.1631.339
SEQUENCE:3
DTSTAMP:20260419T203346Z
URL:https://business.wallowacountychamber.com/events/details/living-well-with-chronic-conditions-workshop-02-11-2013-339
END:VEVENT

END:VCALENDAR
