BEGIN:VCALENDAR
VERSION:2.0
PRODID:-//ChamberMaster//Event Calendar 2.0//EN
METHOD:PUBLISH
X-PUBLISHED-TTL:P3D
REFRESH-INTERVAL:P3D
CALSCALE:GREGORIAN
BEGIN:VEVENT
DTSTART:20130324T210000Z
DTEND:20130325T230000Z
X-MICROSOFT-CDO-ALLDAYEVENT:FALSE
SUMMARY:Live Radio Theater - "Rick Lowell\, Private Eye"
DESCRIPTION:"Rick Lowell\, Private Detective\,"  a romping 1940's live radio show by Lumiere Players will be at the Josephy Center.  A cast of about 10 local actors under director Hal Long will perform Sunday and a live radio performance on Monday at 7:00pm.
X-ALT-DESC;FMTTYPE=text/html:&quot\;Rick Lowell\, Private Detective\,&quot\;&nbsp\; a romping 1940&#39\;s live radio show by Lumiere Players will be at the Josephy Center.&nbsp\; A cast of about 10 local&nbsp\;actors under director Hal Long will&nbsp\;perform Sunday and a live radio performance on Monday at 7:00pm.&nbsp\;
LOCATION:Josephy Center for Arts and Culture\, 403 N. Main St.\, Joseph
UID:e.1631.2386
SEQUENCE:3
DTSTAMP:20260419T185937Z
URL:https://business.wallowacountychamber.com/events/details/live-radio-theater-rick-lowell-private-eye-03-24-2013-2386
END:VEVENT

END:VCALENDAR
