BEGIN:VCALENDAR
VERSION:2.0
PRODID:-//ChamberMaster//Event Calendar 2.0//EN
METHOD:PUBLISH
X-PUBLISHED-TTL:P3D
REFRESH-INTERVAL:P3D
CALSCALE:GREGORIAN
BEGIN:VEVENT
DTSTART:20130419T020000Z
DTEND:20130419T040000Z
X-MICROSOFT-CDO-ALLDAYEVENT:FALSE
SUMMARY:Live and Up Front with Emily Jones
DESCRIPTION:Wallowa County photographer Emily Jones is the featured presenter for a "Live and Up Front" artist profile at the Josephy Center for Arts and Culture on April 18th at 7 p.m. Jones will share photos taken from mountain peaks and various treks into the wilderness area as well as equipment and navigation skills necessary for winter travel in the Eagle Caps. She will share information on all of the gear she takes into the backcountry and how it all fits together. \n\nThis is an exceptional presentation displaying beautiful\, inspiring photography\, and an opportunity to see what is involved with capturing images in the backcountry in a winter environment\, according to Josephy Center officials. Admission to the event is by donation.
X-ALT-DESC;FMTTYPE=text/html:<span style="font-size: medium\;"><span style="font-family: times new roman\;"><span style="color: black\;">Wallowa County photographer Emily Jones is the featured presenter for a &ldquo\;Live and Up Front&rdquo\; artist profile at the Josephy Center for Arts and Culture on April 18th at 7 p.m. Jones will share photos taken from mountain peaks and various treks into the wilderness area as well as equipment and navigation skills necessary for winter travel in the Eagle Caps. She will share information on all of the gear she takes into the backcountry and how it all fits together. </span></span></span><br />\n<span style="font-size: medium\;"><span style="font-family: times new roman\;"><span style="font-size: 12pt\;"><span style="font-family: times new roman\,serif\;"><span style="color: black\;">This is an exceptional presentation displaying beautiful\, inspiring photography\, and an opportunity to see what is involved with capturing images in the backcountry in a winter environment\, according to Josephy Center officials. Admission to the event is by donation. </span></span></span></span></span>
LOCATION:Jospehy Center for Arts & Culture\, 405 N. Main St.\, Joseph
UID:e.1631.3559
SEQUENCE:3
DTSTAMP:20260419T171131Z
URL:https://business.wallowacountychamber.com/events/details/live-and-up-front-with-emily-jones-04-18-2013-3559
END:VEVENT

END:VCALENDAR
